Workbook

Sheet Kalkulator
A1: KALKULATOR RATY KREDYTU HIPOTECZNEGO
A3: Oblicz orientacyjną ratę, odsetki i całkowity koszt kredytu.
A5: PARAMETRY KREDYTU | E5: PODSUMOWANIE
A6: Cena nieruchomości | B6: 600000 | D6: zł | E6: PIERWSZA RATA | G6: KWOTA KREDYTU
A7: Wkład własny | B7: 120000 | D7: zł | E7: =IF($B$10="Równe",IF($B$8/100/12=0,$B$12/$B$9*12,-PMT($B$8/100/12,$B$9*12,$B$12)),$B$12/$B$9*12+$B$12*$B$8/100/12) | G7: =$B$12
A8: Oprocentowanie nominalne | B8: 7 | D8: % rocznie
A9: Okres kredytowania | B9: 25 | D9: lat
A10: Rodzaj rat | B10: Równe | E10: SUMA ODSETEK | G10: ŁĄCZNIE DO SPŁATY
E11: =IF($B$10="Równe",(IF($B$8/100/12=0,$B$12/$B$9*12,-PMT($B$8/100/12,$B$9*12,$B$12))*$B$9*12-$B$12),($B$12*$B$8/100/12*($B$9*12+1)/2)) | G11: =$B$12+IF($B$10="Równe",(IF($B$8/100/12=0,$B$12/$B$9*12,-PMT($B$8/100/12,$B$9*12,$B$12))*$B$9*12-$B$12),($B$12*$B$8/100/12*($B$9*12+1)/2))
A12: Kwota kredytu | B12: =MAX(0,B6-B7)
A14: Zmień wartości w złotych polach, aby porównać scenariusze. Wyniki i harmonogram przeliczą się automatycznie.
A16: STRUKTURA SPŁATY
A17: Kapitał | B17: Odsetki
A18: Kwota kredytu | B18: Suma odsetek
A19: =B12 | B19: =E11
A32: WAŻNE ZAŁOŻENIA
A33: Symulacja zakłada stałe oprocentowanie przez cały okres kredytowania oraz regularne miesięczne spłaty. Nie uwzględnia prowizji, ubezpieczeń, opłat dodatkowych, zmian stóp procentowych ani indywidualnych warunków banku. Rzeczywista rata i całkowity koszt mogą się różnić. Wynik ma charakter orientacyjny i nie stanowi oferty kredytowej ani porady finansowej.

Sheet Harmonogram
A1: HARMONOGRAM SPŁATY KREDYTU
A3: Miesięczny podział raty na kapitał i odsetki oraz saldo pozostałe do spłaty.
A5: Nr raty | B5: Saldo przed ratą | C5: Rata kapitałowa | D5: Rata odsetkowa | E5: Rata łącznie | F5: Saldo po racie | G5: Udział kapitału
A6: =IF(ROW()-5<=Kalkulator!$B$9*12,ROW()-5,"") | B6: =IF(A6="","",IF(A6=1,Kalkulator!$B$12,F5)) | C6: =IF(A6="","",IF(Kalkulator!$B$10="Malejące",MIN(B6,Kalkulator!$B$12/(Kalkulator!$B$9*12)),MIN(B6,IF(Kalkulator!$B$8=0,Kalkulator!$B$12/(Kalkulator!$B$9*12),-PMT(Kalkulator!$B$8/100/12,Kalkulator!$B$9*12,Kalkulator!$B$12))-B6*Kalkulator!$B$8/100/12))) | D6: =IF(A6="","",B6*Kalkulator!$B$8/100/12) | E6: =IF(A6="","",C6+D6) | F6: =IF(A6="","",MAX(0,B6-C6)) | G6: =IFERROR(C6/E6,0)
A7: =IF(ROW()-5<=Kalkulator!$B$9*12,ROW()-5,"") | B7: =IF(A7="","",IF(A7=1,Kalkulator!$B$12,F6)) | C7: =IF(A7="","",IF(Kalkulator!$B$10="Malejące",MIN(B7,Kalkulator!$B$12/(Kalkulator!$B$9*12)),MIN(B7,IF(Kalkulator!$B$8=0,Kalkulator!$B$12/(Kalkulator!$B$9*12),-PMT(Kalkulator!$B$8/100/12,Kalkulator!$B$9*12,Kalkulator!$B$12))-B7*Kalkulator!$B$8/100/12))) | D7: =IF(A7="","",B7*Kalkulator!$B$8/100/12) | E7: =IF(A7="","",C7+D7) | F7: =IF(A7="","",MAX(0,B7-C7)) | G7: =IFERROR(C7/E7,0)
A8: =IF(ROW()-5<=Kalkulator!$B$9*12,ROW()-5,"") | B8: =IF(A8="","",IF(A8=1,Kalkulator!$B$12,F7)) | C8: =IF(A8="","",IF(Kalkulator!$B$10="Malejące",MIN(B8,Kalkulator!$B$12/(Kalkulator!$B$9*12)),MIN(B8,IF(Kalkulator!$B$8=0,Kalkulator!$B$12/(Kalkulator!$B$9*12),-PMT(Kalkulator!$B$8/100/12,Kalkulator!$B$9*12,Kalkulator!$B$12))-B8*Kalkulator!$B$8/100/12))) | D8: =IF(A8="","",B8*Kalkulator!$B$8/100/12) | E8: =IF(A8="","",C8+D8) | F8: =IF(A8="","",MAX(0,B8-C8)) | G8: =IFERROR(C8/E8,0)
A9: =IF(ROW()-5<=Kalkulator!$B$9*12,ROW()-5,"") | B9: =IF(A9="","",IF(A9=1,Kalkulator!$B$12,F8)) | C9: =IF(A9="","",IF(Kalkulator!$B$10="Malejące",MIN(B9,Kalkulator!$B$12/(Kalkulator!$B$9*12)),MIN(B9,IF(Kalkulator!$B$8=0,Kalkulator!$B$12/(Kalkulator!$B$9*12),-PMT(Kalkulator!$B$8/100/12,Kalkulator!$B$9*12,Kalkulator!$B$12))-B9*Kalkulator!$B$8/100/12))) | D9: =IF(A9="","",B9*Kalkulator!$B$8/100/12) | E9: =IF(A9="","",C9+D9) | F9: =IF(A9="","",MAX(0,B9-C9)) | G9: =IFERROR(C9/E9,0)
A10: =IF(ROW()-5<=Kalkulator!$B$9*12,ROW()-5,"") | B10: =IF(A10="","",IF(A10=1,Kalkulator!$B$12,F9)) | C10: =IF(A10="","",IF(Kalkulator!$B$10="Malejące",MIN(B10,Kalkulator!$B$12/(Kalkulator!$B$9*12)),MIN(B10,IF(Kalkulator!$B$8=0,Kalkulator!$B$12/(Kalkulator!$B$9*12),-PMT(Kalkulator!$B$8/100/12,Kalkulator!$B$9*12,Kalkulator!$B$12))-B10*Kalkulator!$B$8/100/12))) | D10: =IF(A10="","",B10*Kalkulator!$B$8/100/12) | E10: =IF(A10="","",C10+D10) | F10: =IF(A10="","",MAX(0,B10-C10)) | G10: =IFERROR(C10/E10,0)
A11: =IF(ROW()-5<=Kalkulator!$B$9*12,ROW()-5,"") | B11: =IF(A11="","",IF(A11=1,Kalkulator!$B$12,F10)) | C11: =IF(A11="","",IF(Kalkulator!$B$10="Malejące",MIN(B11,Kalkulator!$B$12/(Kalkulator!$B$9*12)),MIN(B11,IF(Kalkulator!$B$8=0,Kalkulator!$B$12/(Kalkulator!$B$9*12),-PMT(Kalkulator!$B$8/100/12,Kalkulator!$B$9*12,Kalkulator!$B$12))-B11*Kalkulator!$B$8/100/12))) | D11: =IF(A11="","",B11*Kalkulator!$B$8/100/12) | E11: =IF(A11="","",C11+D11) | F11: =IF(A11="","",MAX(0,B11-C11)) | G11: =IFERROR(C11/E11,0)
A12: =IF(ROW()-5<=Kalkulator!$B$9*12,ROW()-5,"") | B12: =IF(A12="","",IF(A12=1,Kalkulator!$B$12,F11)) | C12: =IF(A12="","",IF(Kalkulator!$B$10="Malejące",MIN(B12,Kalkulator!$B$12/(Kalkulator!$B$9*12)),MIN(B12,IF(Kalkulator!$B$8=0,Kalkulator!$B$12/(Kalkulator!$B$9*12),-PMT(Kalkulator!$B$8/100/12,Kalkulator!$B$9*12,Kalkulator!$B$12))-B12*Kalkulator!$B$8/100/12))) | D12: =IF(A12="","",B12*Kalkulator!$B$8/100/12) | E12: =IF(A12="","",C12+D12) | F12: =IF(A12="","",MAX(0,B12-C12)) | G12: =IFERROR(C12/E12,0)
A13: =IF(ROW()-5<=Kalkulator!$B$9*12,ROW()-5,"") | B13: =IF(A13="","",IF(A13=1,Kalkulator!$B$12,F12)) | C13: =IF(A13="","",IF(Kalkulator!$B$10="Malejące",MIN(B13,Kalkulator!$B$12/(Kalkulator!$B$9*12)),MIN(B13,IF(Kalkulator!$B$8=0,Kalkulator!$B$12/(Kalkulator!$B$9*12),-PMT(Kalkulator!$B$8/100/12,Kalkulator!$B$9*12,Kalkulator!$B$12))-B13*Kalkulator!$B$8/100/12))) | D13: =IF(A13="","",B13*Kalkulator!$B$8/100/12) | E13: =IF(A13="","",C13+D13) | F13: =IF(A13="","",MAX(0,B13-C13)) | G13: =IFERROR(C13/E13,0)
A14: =IF(ROW()-5<=Kalkulator!$B$9*12,ROW()-5,"") | B14: =IF(A14="","",IF(A14=1,Kalkulator!$B$12,F13)) | C14: =IF(A14="","",IF(Kalkulator!$B$10="Malejące",MIN(B14,Kalkulator!$B$12/(Kalkulator!$B$9*12)),MIN(B14,IF(Kalkulator!$B$8=0,Kalkulator!$B$12/(Kalkulator!$B$9*12),-PMT(Kalkulator!$B$8/100/12,Kalkulator!$B$9*12,Kalkulator!$B$12))-B14*Kalkulator!$B$8/100/12))) | D14: =IF(A14="","",B14*Kalkulator!$B$8/100/12) | E14: =IF(A14="","",C14+D14) | F14: =IF(A14="","",MAX(0,B14-C14)) | G14: =IFERROR(C14/E14,0)
A15: =IF(ROW()-5<=Kalkulator!$B$9*12,ROW()-5,"") | B15: =IF(A15="","",IF(A15=1,Kalkulator!$B$12,F14)) | C15: =IF(A15="","",IF(Kalkulator!$B$10="Malejące",MIN(B15,Kalkulator!$B$12/(Kalkulator!$B$9*12)),MIN(B15,IF(Kalkulator!$B$8=0,Kalkulator!$B$12/(Kalkulator!$B$9*12),-PMT(Kalkulator!$B$8/100/12,Kalkulator!$B$9*12,Kalkulator!$B$12))-B15*Kalkulator!$B$8/100/12))) | D15: =IF(A15="","",B15*Kalkulator!$B$8/100/12) | E15: =IF(A15="","",C15+D15) | F15: =IF(A15="","",MAX(0,B15-C15)) | G15: =IFERROR(C15/E15,0)
A16: =IF(ROW()-5<=Kalkulator!$B$9*12,ROW()-5,"") | B16: =IF(A16="","",IF(A16=1,Kalkulator!$B$12,F15)) | C16: =IF(A16="","",IF(Kalkulator!$B$10="Malejące",MIN(B16,Kalkulator!$B$12/(Kalkulator!$B$9*12)),MIN(B16,IF(Kalkulator!$B$8=0,Kalkulator!$B$12/(Kalkulator!$B$9*12),-PMT(Kalkulator!$B$8/100/12,Kalkulator!$B$9*12,Kalkulator!$B$12))-B16*Kalkulator!$B$8/100/12))) | D16: =IF(A16="","",B16*Kalkulator!$B$8/100/12) | E16: =IF(A16="","",C16+D16) | F16: =IF(A16="","",MAX(0,B16-C16)) | G16: =IFERROR(C16/E16,0)
A17: =IF(ROW()-5<=Kalkulator!$B$9*12,ROW()-5,"") | B17: =IF(A17="","",IF(A17=1,Kalkulator!$B$12,F16)) | C17: =IF(A17="","",IF(Kalkulator!$B$10="Malejące",MIN(B17,Kalkulator!$B$12/(Kalkulator!$B$9*12)),MIN(B17,IF(Kalkulator!$B$8=0,Kalkulator!$B$12/(Kalkulator!$B$9*12),-PMT(Kalkulator!$B$8/100/12,Kalkulator!$B$9*12,Kalkulator!$B$12))-B17*Kalkulator!$B$8/100/12))) | D17: =IF(A17="","",B17*Kalkulator!$B$8/100/12) | E17: =IF(A17="","",C17+D17) | F17: =IF(A17="","",MAX(0,B17-C17)) | G17: =IFERROR(C17/E17,0)
... A485: =IF(ROW()-5<=Kalkulator!$B$9*12,ROW()-5,"") | B485: =IF(A485="","",IF(A485=1,Kalkulator!$B$12,F484)) | C485: =IF(A485="","",IF(Kalkulator!$B$10="Malejące",MIN(B485,Kalkulator!$B$12/(Kalkulator!$B$9*12)),MIN(B485,IF(Kalkulator!$B$8=0,Kalkulator!$B$12/(Kalkulator!$B$9*12),-PMT(Kalkulator!$B$8/100/12,Kalkulator!$B$9*12,Kalkulator!$B$12))-B485*Kalkulator!$B$8/100/12))) | D485: =IF(A485="","",B485*Kalkulator!$B$8/100/12) | E485: =IF(A485="","",C485+D485) | F485: =IF(A485="","",MAX(0,B485-C485)) | G485: =IFERROR(C485/E485,0)

Sheet Instrukcja
A1: JAK KORZYSTAĆ Z KALKULATORA
A3: Instrukcja obsługi kalkulatora raty kredytu hipotecznego.
A5: KROK PO KROKU
A6: 01 | B6: Cena nieruchomości | C6: Wpisz cenę mieszkania lub domu.
A7: 02 | B7: Wkład własny | C7: Wpisz kwotę własnych środków przeznaczonych na zakup. Kwota kredytu zostanie obliczona automatycznie.
A8: 03 | B8: Oprocentowanie | C8: Wpisz nominalne oprocentowanie roczne w procentach, np. 7 oznacza 7% rocznie.
A9: 04 | B9: Okres kredytowania | C9: Wybierz liczbę lat spłaty. Kalkulator obsługuje okres od 1 do 40 lat.
A10: 05 | B10: Rodzaj rat | C10: Wybierz raty równe lub malejące. W harmonogramie zobaczysz rozbicie każdej raty.
A11: 06 | B11: Sprawdź wynik | C11: Zobacz pierwszą ratę, kwotę kredytu, sumę odsetek, łączną kwotę do spłaty i harmonogram.
A13: WAŻNE ZASTRZEŻENIA
A14: Kalkulator ma charakter edukacyjny i orientacyjny. Przyjmuje stałe oprocentowanie nominalne przez cały okres kredytowania i miesięczne raty. Nie uwzględnia prowizji, ubezpieczeń, kosztów wyceny, opłat bankowych, zmian stóp procentowych ani indywidualnych warunków umowy. Rzeczywiste oferty banków mogą różnić się od wyniku symulacji. Narzędzie nie stanowi oferty kredytowej, rekomendacji ani porady finansowej.
