Workbook

Sheet Kalkulator
A1: KALKULATOR PROCENTU SKŁADANEGO | J1: Rok | K1: Wartość portfela | L1: Wpłacony kapitał
J2: 0 | K2: =IF(J2>$B$9,NA(),IF($B$8=0,$B$6+$B$7*12*J2,$B$6*(1+((1+$B$8/100/$B$10)^($B$10/12)-1))^(12*J2)+$B$7*(((1+((1+$B$8/100/$B$10)^($B$10/12)-1))^(12*J2)-1)/((1+$B$8/100/$B$10)^($B$10/12)-1))*IF($B$11="Początek miesiąca",1+((1+$B$8/100/$B$10)^($B$10/12)-1),1))) | L2: =IF(J2>$B$9,NA(),$B$6+$B$7*12*J2)
A3: Sprawdź, jak kapitał, regularne wpłaty i czas mogą wpływać na wartość Twoich oszczędności. | J3: 1 | K3: =IF(J3>$B$9,NA(),IF($B$8=0,$B$6+$B$7*12*J3,$B$6*(1+((1+$B$8/100/$B$10)^($B$10/12)-1))^(12*J3)+$B$7*(((1+((1+$B$8/100/$B$10)^($B$10/12)-1))^(12*J3)-1)/((1+$B$8/100/$B$10)^($B$10/12)-1))*IF($B$11="Początek miesiąca",1+((1+$B$8/100/$B$10)^($B$10/12)-1),1))) | L3: =IF(J3>$B$9,NA(),$B$6+$B$7*12*J3)
J4: 2 | K4: =IF(J4>$B$9,NA(),IF($B$8=0,$B$6+$B$7*12*J4,$B$6*(1+((1+$B$8/100/$B$10)^($B$10/12)-1))^(12*J4)+$B$7*(((1+((1+$B$8/100/$B$10)^($B$10/12)-1))^(12*J4)-1)/((1+$B$8/100/$B$10)^($B$10/12)-1))*IF($B$11="Początek miesiąca",1+((1+$B$8/100/$B$10)^($B$10/12)-1),1))) | L4: =IF(J4>$B$9,NA(),$B$6+$B$7*12*J4)
A5: USTAWIENIA INWESTYCJI | E5: WYNIK PROGNOZY | J5: 3 | K5: =IF(J5>$B$9,NA(),IF($B$8=0,$B$6+$B$7*12*J5,$B$6*(1+((1+$B$8/100/$B$10)^($B$10/12)-1))^(12*J5)+$B$7*(((1+((1+$B$8/100/$B$10)^($B$10/12)-1))^(12*J5)-1)/((1+$B$8/100/$B$10)^($B$10/12)-1))*IF($B$11="Początek miesiąca",1+((1+$B$8/100/$B$10)^($B$10/12)-1),1))) | L5: =IF(J5>$B$9,NA(),$B$6+$B$7*12*J5)
A6: Kapitał początkowy | B6: 10000 | D6: zł | E6: WARTOŚĆ KOŃCOWA | G6: WPŁACONY KAPITAŁ | J6: 4 | K6: =IF(J6>$B$9,NA(),IF($B$8=0,$B$6+$B$7*12*J6,$B$6*(1+((1+$B$8/100/$B$10)^($B$10/12)-1))^(12*J6)+$B$7*(((1+((1+$B$8/100/$B$10)^($B$10/12)-1))^(12*J6)-1)/((1+$B$8/100/$B$10)^($B$10/12)-1))*IF($B$11="Początek miesiąca",1+((1+$B$8/100/$B$10)^($B$10/12)-1),1))) | L6: =IF(J6>$B$9,NA(),$B$6+$B$7*12*J6)
A7: Miesięczna wpłata | B7: 500 | D7: zł | E7: =IF($B$8=0,$B$6+$B$7*12*$B$9,$B$6*(1+((1+$B$8/100/$B$10)^($B$10/12)-1))^(12*$B$9)+$B$7*(((1+((1+$B$8/100/$B$10)^($B$10/12)-1))^(12*$B$9)-1)/((1+$B$8/100/$B$10)^($B$10/12)-1))*IF($B$11="Początek miesiąca",1+((1+$B$8/100/$B$10)^($B$10/12)-1),1)) | G7: =$B$6+$B$7*12*$B$9 | J7: 5 | K7: =IF(J7>$B$9,NA(),IF($B$8=0,$B$6+$B$7*12*J7,$B$6*(1+((1+$B$8/100/$B$10)^($B$10/12)-1))^(12*J7)+$B$7*(((1+((1+$B$8/100/$B$10)^($B$10/12)-1))^(12*J7)-1)/((1+$B$8/100/$B$10)^($B$10/12)-1))*IF($B$11="Początek miesiąca",1+((1+$B$8/100/$B$10)^($B$10/12)-1),1))) | L7: =IF(J7>$B$9,NA(),$B$6+$B$7*12*J7)
A8: Roczna stopa zwrotu | B8: 7 | D8: % | J8: 6 | K8: =IF(J8>$B$9,NA(),IF($B$8=0,$B$6+$B$7*12*J8,$B$6*(1+((1+$B$8/100/$B$10)^($B$10/12)-1))^(12*J8)+$B$7*(((1+((1+$B$8/100/$B$10)^($B$10/12)-1))^(12*J8)-1)/((1+$B$8/100/$B$10)^($B$10/12)-1))*IF($B$11="Początek miesiąca",1+((1+$B$8/100/$B$10)^($B$10/12)-1),1))) | L8: =IF(J8>$B$9,NA(),$B$6+$B$7*12*J8)
A9: Okres inwestowania | B9: 20 | D9: lat | J9: 7 | K9: =IF(J9>$B$9,NA(),IF($B$8=0,$B$6+$B$7*12*J9,$B$6*(1+((1+$B$8/100/$B$10)^($B$10/12)-1))^(12*J9)+$B$7*(((1+((1+$B$8/100/$B$10)^($B$10/12)-1))^(12*J9)-1)/((1+$B$8/100/$B$10)^($B$10/12)-1))*IF($B$11="Początek miesiąca",1+((1+$B$8/100/$B$10)^($B$10/12)-1),1))) | L9: =IF(J9>$B$9,NA(),$B$6+$B$7*12*J9)
A10: Kapitalizacja | B10: 12 | D10: razy w roku | E10: WYPRACOWANY ZYSK | G10: ZYSK / WPŁATY | J10: 8 | K10: =IF(J10>$B$9,NA(),IF($B$8=0,$B$6+$B$7*12*J10,$B$6*(1+((1+$B$8/100/$B$10)^($B$10/12)-1))^(12*J10)+$B$7*(((1+((1+$B$8/100/$B$10)^($B$10/12)-1))^(12*J10)-1)/((1+$B$8/100/$B$10)^($B$10/12)-1))*IF($B$11="Początek miesiąca",1+((1+$B$8/100/$B$10)^($B$10/12)-1),1))) | L10: =IF(J10>$B$9,NA(),$B$6+$B$7*12*J10)
A11: Moment wpłaty | B11: Koniec miesiąca | E11: =E7-G7 | G11: =IFERROR(E11/G7,0) | J11: 9 | K11: =IF(J11>$B$9,NA(),IF($B$8=0,$B$6+$B$7*12*J11,$B$6*(1+((1+$B$8/100/$B$10)^($B$10/12)-1))^(12*J11)+$B$7*(((1+((1+$B$8/100/$B$10)^($B$10/12)-1))^(12*J11)-1)/((1+$B$8/100/$B$10)^($B$10/12)-1))*IF($B$11="Początek miesiąca",1+((1+$B$8/100/$B$10)^($B$10/12)-1),1))) | L11: =IF(J11>$B$9,NA(),$B$6+$B$7*12*J11)
J12: 10 | K12: =IF(J12>$B$9,NA(),IF($B$8=0,$B$6+$B$7*12*J12,$B$6*(1+((1+$B$8/100/$B$10)^($B$10/12)-1))^(12*J12)+$B$7*(((1+((1+$B$8/100/$B$10)^($B$10/12)-1))^(12*J12)-1)/((1+$B$8/100/$B$10)^($B$10/12)-1))*IF($B$11="Początek miesiąca",1+((1+$B$8/100/$B$10)^($B$10/12)-1),1))) | L12: =IF(J12>$B$9,NA(),$B$6+$B$7*12*J12)
J13: 11 | K13: =IF(J13>$B$9,NA(),IF($B$8=0,$B$6+$B$7*12*J13,$B$6*(1+((1+$B$8/100/$B$10)^($B$10/12)-1))^(12*J13)+$B$7*(((1+((1+$B$8/100/$B$10)^($B$10/12)-1))^(12*J13)-1)/((1+$B$8/100/$B$10)^($B$10/12)-1))*IF($B$11="Początek miesiąca",1+((1+$B$8/100/$B$10)^($B$10/12)-1),1))) | L13: =IF(J13>$B$9,NA(),$B$6+$B$7*12*J13)
A14: Zmień wartości w złotych polach. Wyniki i wykres aktualizują się automatycznie po przeliczeniu arkusza. | J14: 12 | K14: =IF(J14>$B$9,NA(),IF($B$8=0,$B$6+$B$7*12*J14,$B$6*(1+((1+$B$8/100/$B$10)^($B$10/12)-1))^(12*J14)+$B$7*(((1+((1+$B$8/100/$B$10)^($B$10/12)-1))^(12*J14)-1)/((1+$B$8/100/$B$10)^($B$10/12)-1))*IF($B$11="Początek miesiąca",1+((1+$B$8/100/$B$10)^($B$10/12)-1),1))) | L14: =IF(J14>$B$9,NA(),$B$6+$B$7*12*J14)
J15: 13 | K15: =IF(J15>$B$9,NA(),IF($B$8=0,$B$6+$B$7*12*J15,$B$6*(1+((1+$B$8/100/$B$10)^($B$10/12)-1))^(12*J15)+$B$7*(((1+((1+$B$8/100/$B$10)^($B$10/12)-1))^(12*J15)-1)/((1+$B$8/100/$B$10)^($B$10/12)-1))*IF($B$11="Początek miesiąca",1+((1+$B$8/100/$B$10)^($B$10/12)-1),1))) | L15: =IF(J15>$B$9,NA(),$B$6+$B$7*12*J15)
A16: WIZUALIZACJA WZROSTU KAPITAŁU | J16: 14 | K16: =IF(J16>$B$9,NA(),IF($B$8=0,$B$6+$B$7*12*J16,$B$6*(1+((1+$B$8/100/$B$10)^($B$10/12)-1))^(12*J16)+$B$7*(((1+((1+$B$8/100/$B$10)^($B$10/12)-1))^(12*J16)-1)/((1+$B$8/100/$B$10)^($B$10/12)-1))*IF($B$11="Początek miesiąca",1+((1+$B$8/100/$B$10)^($B$10/12)-1),1))) | L16: =IF(J16>$B$9,NA(),$B$6+$B$7*12*J16)
J17: 15 | K17: =IF(J17>$B$9,NA(),IF($B$8=0,$B$6+$B$7*12*J17,$B$6*(1+((1+$B$8/100/$B$10)^($B$10/12)-1))^(12*J17)+$B$7*(((1+((1+$B$8/100/$B$10)^($B$10/12)-1))^(12*J17)-1)/((1+$B$8/100/$B$10)^($B$10/12)-1))*IF($B$11="Początek miesiąca",1+((1+$B$8/100/$B$10)^($B$10/12)-1),1))) | L17: =IF(J17>$B$9,NA(),$B$6+$B$7*12*J17)
J18: 16 | K18: =IF(J18>$B$9,NA(),IF($B$8=0,$B$6+$B$7*12*J18,$B$6*(1+((1+$B$8/100/$B$10)^($B$10/12)-1))^(12*J18)+$B$7*(((1+((1+$B$8/100/$B$10)^($B$10/12)-1))^(12*J18)-1)/((1+$B$8/100/$B$10)^($B$10/12)-1))*IF($B$11="Początek miesiąca",1+((1+$B$8/100/$B$10)^($B$10/12)-1),1))) | L18: =IF(J18>$B$9,NA(),$B$6+$B$7*12*J18)
J19: 17 | K19: =IF(J19>$B$9,NA(),IF($B$8=0,$B$6+$B$7*12*J19,$B$6*(1+((1+$B$8/100/$B$10)^($B$10/12)-1))^(12*J19)+$B$7*(((1+((1+$B$8/100/$B$10)^($B$10/12)-1))^(12*J19)-1)/((1+$B$8/100/$B$10)^($B$10/12)-1))*IF($B$11="Początek miesiąca",1+((1+$B$8/100/$B$10)^($B$10/12)-1),1))) | L19: =IF(J19>$B$9,NA(),$B$6+$B$7*12*J19)
J20: 18 | K20: =IF(J20>$B$9,NA(),IF($B$8=0,$B$6+$B$7*12*J20,$B$6*(1+((1+$B$8/100/$B$10)^($B$10/12)-1))^(12*J20)+$B$7*(((1+((1+$B$8/100/$B$10)^($B$10/12)-1))^(12*J20)-1)/((1+$B$8/100/$B$10)^($B$10/12)-1))*IF($B$11="Początek miesiąca",1+((1+$B$8/100/$B$10)^($B$10/12)-1),1))) | L20: =IF(J20>$B$9,NA(),$B$6+$B$7*12*J20)
J21: 19 | K21: =IF(J21>$B$9,NA(),IF($B$8=0,$B$6+$B$7*12*J21,$B$6*(1+((1+$B$8/100/$B$10)^($B$10/12)-1))^(12*J21)+$B$7*(((1+((1+$B$8/100/$B$10)^($B$10/12)-1))^(12*J21)-1)/((1+$B$8/100/$B$10)^($B$10/12)-1))*IF($B$11="Początek miesiąca",1+((1+$B$8/100/$B$10)^($B$10/12)-1),1))) | L21: =IF(J21>$B$9,NA(),$B$6+$B$7*12*J21)
J22: 20 | K22: =IF(J22>$B$9,NA(),IF($B$8=0,$B$6+$B$7*12*J22,$B$6*(1+((1+$B$8/100/$B$10)^($B$10/12)-1))^(12*J22)+$B$7*(((1+((1+$B$8/100/$B$10)^($B$10/12)-1))^(12*J22)-1)/((1+$B$8/100/$B$10)^($B$10/12)-1))*IF($B$11="Początek miesiąca",1+((1+$B$8/100/$B$10)^($B$10/12)-1),1))) | L22: =IF(J22>$B$9,NA(),$B$6+$B$7*12*J22)
J23: 21 | K23: =IF(J23>$B$9,NA(),IF($B$8=0,$B$6+$B$7*12*J23,$B$6*(1+((1+$B$8/100/$B$10)^($B$10/12)-1))^(12*J23)+$B$7*(((1+((1+$B$8/100/$B$10)^($B$10/12)-1))^(12*J23)-1)/((1+$B$8/100/$B$10)^($B$10/12)-1))*IF($B$11="Początek miesiąca",1+((1+$B$8/100/$B$10)^($B$10/12)-1),1))) | L23: =IF(J23>$B$9,NA(),$B$6+$B$7*12*J23)
J24: 22 | K24: =IF(J24>$B$9,NA(),IF($B$8=0,$B$6+$B$7*12*J24,$B$6*(1+((1+$B$8/100/$B$10)^($B$10/12)-1))^(12*J24)+$B$7*(((1+((1+$B$8/100/$B$10)^($B$10/12)-1))^(12*J24)-1)/((1+$B$8/100/$B$10)^($B$10/12)-1))*IF($B$11="Początek miesiąca",1+((1+$B$8/100/$B$10)^($B$10/12)-1),1))) | L24: =IF(J24>$B$9,NA(),$B$6+$B$7*12*J24)
J25: 23 | K25: =IF(J25>$B$9,NA(),IF($B$8=0,$B$6+$B$7*12*J25,$B$6*(1+((1+$B$8/100/$B$10)^($B$10/12)-1))^(12*J25)+$B$7*(((1+((1+$B$8/100/$B$10)^($B$10/12)-1))^(12*J25)-1)/((1+$B$8/100/$B$10)^($B$10/12)-1))*IF($B$11="Początek miesiąca",1+((1+$B$8/100/$B$10)^($B$10/12)-1),1))) | L25: =IF(J25>$B$9,NA(),$B$6+$B$7*12*J25)
J26: 24 | K26: =IF(J26>$B$9,NA(),IF($B$8=0,$B$6+$B$7*12*J26,$B$6*(1+((1+$B$8/100/$B$10)^($B$10/12)-1))^(12*J26)+$B$7*(((1+((1+$B$8/100/$B$10)^($B$10/12)-1))^(12*J26)-1)/((1+$B$8/100/$B$10)^($B$10/12)-1))*IF($B$11="Początek miesiąca",1+((1+$B$8/100/$B$10)^($B$10/12)-1),1))) | L26: =IF(J26>$B$9,NA(),$B$6+$B$7*12*J26)
J27: 25 | K27: =IF(J27>$B$9,NA(),IF($B$8=0,$B$6+$B$7*12*J27,$B$6*(1+((1+$B$8/100/$B$10)^($B$10/12)-1))^(12*J27)+$B$7*(((1+((1+$B$8/100/$B$10)^($B$10/12)-1))^(12*J27)-1)/((1+$B$8/100/$B$10)^($B$10/12)-1))*IF($B$11="Początek miesiąca",1+((1+$B$8/100/$B$10)^($B$10/12)-1),1))) | L27: =IF(J27>$B$9,NA(),$B$6+$B$7*12*J27)
J28: 26 | K28: =IF(J28>$B$9,NA(),IF($B$8=0,$B$6+$B$7*12*J28,$B$6*(1+((1+$B$8/100/$B$10)^($B$10/12)-1))^(12*J28)+$B$7*(((1+((1+$B$8/100/$B$10)^($B$10/12)-1))^(12*J28)-1)/((1+$B$8/100/$B$10)^($B$10/12)-1))*IF($B$11="Początek miesiąca",1+((1+$B$8/100/$B$10)^($B$10/12)-1),1))) | L28: =IF(J28>$B$9,NA(),$B$6+$B$7*12*J28)
... J34: 32 | K34: =IF(J34>$B$9,NA(),IF($B$8=0,$B$6+$B$7*12*J34,$B$6*(1+((1+$B$8/100/$B$10)^($B$10/12)-1))^(12*J34)+$B$7*(((1+((1+$B$8/100/$B$10)^($B$10/12)-1))^(12*J34)-1)/((1+$B$8/100/$B$10)^($B$10/12)-1))*IF($B$11="Początek miesiąca",1+((1+$B$8/100/$B$10)^($B$10/12)-1),1))) | L34: =IF(J34>$B$9,NA(),$B$6+$B$7*12*J34)
A35: ZAŁOŻENIA I OGRANICZENIA | J35: 33 | K35: =IF(J35>$B$9,NA(),IF($B$8=0,$B$6+$B$7*12*J35,$B$6*(1+((1+$B$8/100/$B$10)^($B$10/12)-1))^(12*J35)+$B$7*(((1+((1+$B$8/100/$B$10)^($B$10/12)-1))^(12*J35)-1)/((1+$B$8/100/$B$10)^($B$10/12)-1))*IF($B$11="Początek miesiąca",1+((1+$B$8/100/$B$10)^($B$10/12)-1),1))) | L35: =IF(J35>$B$9,NA(),$B$6+$B$7*12*J35)
A36: Model zakłada stałą stopę zwrotu i regularne wpłaty miesięczne. Rzeczywiste wyniki inwestycji są zmienne i mogą być ujemne. Kalkulator nie uwzględnia podatków, opłat, prowizji ani inflacji. Wynik ma charakter wyłącznie ilustracyjny i nie stanowi prognozy ani gwarancji zysku. | J36: 34 | K36: =IF(J36>$B$9,NA(),IF($B$8=0,$B$6+$B$7*12*J36,$B$6*(1+((1+$B$8/100/$B$10)^($B$10/12)-1))^(12*J36)+$B$7*(((1+((1+$B$8/100/$B$10)^($B$10/12)-1))^(12*J36)-1)/((1+$B$8/100/$B$10)^($B$10/12)-1))*IF($B$11="Początek miesiąca",1+((1+$B$8/100/$B$10)^($B$10/12)-1),1))) | L36: =IF(J36>$B$9,NA(),$B$6+$B$7*12*J36)
J37: 35 | K37: =IF(J37>$B$9,NA(),IF($B$8=0,$B$6+$B$7*12*J37,$B$6*(1+((1+$B$8/100/$B$10)^($B$10/12)-1))^(12*J37)+$B$7*(((1+((1+$B$8/100/$B$10)^($B$10/12)-1))^(12*J37)-1)/((1+$B$8/100/$B$10)^($B$10/12)-1))*IF($B$11="Początek miesiąca",1+((1+$B$8/100/$B$10)^($B$10/12)-1),1))) | L37: =IF(J37>$B$9,NA(),$B$6+$B$7*12*J37)
J38: 36 | K38: =IF(J38>$B$9,NA(),IF($B$8=0,$B$6+$B$7*12*J38,$B$6*(1+((1+$B$8/100/$B$10)^($B$10/12)-1))^(12*J38)+$B$7*(((1+((1+$B$8/100/$B$10)^($B$10/12)-1))^(12*J38)-1)/((1+$B$8/100/$B$10)^($B$10/12)-1))*IF($B$11="Początek miesiąca",1+((1+$B$8/100/$B$10)^($B$10/12)-1),1))) | L38: =IF(J38>$B$9,NA(),$B$6+$B$7*12*J38)
J39: 37 | K39: =IF(J39>$B$9,NA(),IF($B$8=0,$B$6+$B$7*12*J39,$B$6*(1+((1+$B$8/100/$B$10)^($B$10/12)-1))^(12*J39)+$B$7*(((1+((1+$B$8/100/$B$10)^($B$10/12)-1))^(12*J39)-1)/((1+$B$8/100/$B$10)^($B$10/12)-1))*IF($B$11="Początek miesiąca",1+((1+$B$8/100/$B$10)^($B$10/12)-1),1))) | L39: =IF(J39>$B$9,NA(),$B$6+$B$7*12*J39)
J40: 38 | K40: =IF(J40>$B$9,NA(),IF($B$8=0,$B$6+$B$7*12*J40,$B$6*(1+((1+$B$8/100/$B$10)^($B$10/12)-1))^(12*J40)+$B$7*(((1+((1+$B$8/100/$B$10)^($B$10/12)-1))^(12*J40)-1)/((1+$B$8/100/$B$10)^($B$10/12)-1))*IF($B$11="Początek miesiąca",1+((1+$B$8/100/$B$10)^($B$10/12)-1),1))) | L40: =IF(J40>$B$9,NA(),$B$6+$B$7*12*J40)
J41: 39 | K41: =IF(J41>$B$9,NA(),IF($B$8=0,$B$6+$B$7*12*J41,$B$6*(1+((1+$B$8/100/$B$10)^($B$10/12)-1))^(12*J41)+$B$7*(((1+((1+$B$8/100/$B$10)^($B$10/12)-1))^(12*J41)-1)/((1+$B$8/100/$B$10)^($B$10/12)-1))*IF($B$11="Początek miesiąca",1+((1+$B$8/100/$B$10)^($B$10/12)-1),1))) | L41: =IF(J41>$B$9,NA(),$B$6+$B$7*12*J41)
J42: 40 | K42: =IF(J42>$B$9,NA(),IF($B$8=0,$B$6+$B$7*12*J42,$B$6*(1+((1+$B$8/100/$B$10)^($B$10/12)-1))^(12*J42)+$B$7*(((1+((1+$B$8/100/$B$10)^($B$10/12)-1))^(12*J42)-1)/((1+$B$8/100/$B$10)^($B$10/12)-1))*IF($B$11="Początek miesiąca",1+((1+$B$8/100/$B$10)^($B$10/12)-1),1))) | L42: =IF(J42>$B$9,NA(),$B$6+$B$7*12*J42)
J43: 41 | K43: =IF(J43>$B$9,NA(),IF($B$8=0,$B$6+$B$7*12*J43,$B$6*(1+((1+$B$8/100/$B$10)^($B$10/12)-1))^(12*J43)+$B$7*(((1+((1+$B$8/100/$B$10)^($B$10/12)-1))^(12*J43)-1)/((1+$B$8/100/$B$10)^($B$10/12)-1))*IF($B$11="Początek miesiąca",1+((1+$B$8/100/$B$10)^($B$10/12)-1),1))) | L43: =IF(J43>$B$9,NA(),$B$6+$B$7*12*J43)
J44: 42 | K44: =IF(J44>$B$9,NA(),IF($B$8=0,$B$6+$B$7*12*J44,$B$6*(1+((1+$B$8/100/$B$10)^($B$10/12)-1))^(12*J44)+$B$7*(((1+((1+$B$8/100/$B$10)^($B$10/12)-1))^(12*J44)-1)/((1+$B$8/100/$B$10)^($B$10/12)-1))*IF($B$11="Początek miesiąca",1+((1+$B$8/100/$B$10)^($B$10/12)-1),1))) | L44: =IF(J44>$B$9,NA(),$B$6+$B$7*12*J44)
J45: 43 | K45: =IF(J45>$B$9,NA(),IF($B$8=0,$B$6+$B$7*12*J45,$B$6*(1+((1+$B$8/100/$B$10)^($B$10/12)-1))^(12*J45)+$B$7*(((1+((1+$B$8/100/$B$10)^($B$10/12)-1))^(12*J45)-1)/((1+$B$8/100/$B$10)^($B$10/12)-1))*IF($B$11="Początek miesiąca",1+((1+$B$8/100/$B$10)^($B$10/12)-1),1))) | L45: =IF(J45>$B$9,NA(),$B$6+$B$7*12*J45)
...

Sheet Rok po roku
A1: FINANSE POD LUPĄ | PROGNOZA ROK PO ROKU
A3: Harmonogram wyników obliczany na podstawie parametrów z arkusza Kalkulator.
A5: Rok | B5: Kapitał na początek | C5: Wpłaty w roku | D5: Wpłacony kapitał łącznie | E5: Wartość portfela | F5: Zysk narastająco | G5: Zysk / wpłaty
A6: 1 | B6: =Kalkulator!B6 | C6: =Kalkulator!B7*12 | D6: =Kalkulator!B6+C6*A6 | E6: =IF(A6>Kalkulator!B9,"",IF(Kalkulator!B8=0,Kalkulator!B6+Kalkulator!B7*12*A6,Kalkulator!B6*(1+((1+Kalkulator!$B$8/100/Kalkulator!$B$10)^(Kalkulator!$B$10/12)-1))^(12*A6)+Kalkulator!B7*(((1+((1+Kalkulator!$B$8/100/Kalkulator!$B$10)^(Kalkulator!$B$10/12)-1))^(12*A6)-1)/((1+Kalkulator!$B$8/100/Kalkulator!$B$10)^(Kalkulator!$B$10/12)-1))*IF(Kalkulator!B11="Początek miesiąca",1+((1+Kalkulator!$B$8/100/Kalkulator!$B$10)^(Kalkulator!$B$10/12)-1),1))) | F6: =IF(E6="","",E6-D6) | G6: =IFERROR(F6/D6,0)
A7: 2 | B7: =E6 | C7: =Kalkulator!B7*12 | D7: =Kalkulator!B6+C7*A7 | E7: =IF(A7>Kalkulator!B9,"",IF(Kalkulator!B8=0,Kalkulator!B6+Kalkulator!B7*12*A7,Kalkulator!B6*(1+((1+Kalkulator!$B$8/100/Kalkulator!$B$10)^(Kalkulator!$B$10/12)-1))^(12*A7)+Kalkulator!B7*(((1+((1+Kalkulator!$B$8/100/Kalkulator!$B$10)^(Kalkulator!$B$10/12)-1))^(12*A7)-1)/((1+Kalkulator!$B$8/100/Kalkulator!$B$10)^(Kalkulator!$B$10/12)-1))*IF(Kalkulator!B11="Początek miesiąca",1+((1+Kalkulator!$B$8/100/Kalkulator!$B$10)^(Kalkulator!$B$10/12)-1),1))) | F7: =IF(E7="","",E7-D7) | G7: =IFERROR(F7/D7,0)
A8: 3 | B8: =E7 | C8: =Kalkulator!B7*12 | D8: =Kalkulator!B6+C8*A8 | E8: =IF(A8>Kalkulator!B9,"",IF(Kalkulator!B8=0,Kalkulator!B6+Kalkulator!B7*12*A8,Kalkulator!B6*(1+((1+Kalkulator!$B$8/100/Kalkulator!$B$10)^(Kalkulator!$B$10/12)-1))^(12*A8)+Kalkulator!B7*(((1+((1+Kalkulator!$B$8/100/Kalkulator!$B$10)^(Kalkulator!$B$10/12)-1))^(12*A8)-1)/((1+Kalkulator!$B$8/100/Kalkulator!$B$10)^(Kalkulator!$B$10/12)-1))*IF(Kalkulator!B11="Początek miesiąca",1+((1+Kalkulator!$B$8/100/Kalkulator!$B$10)^(Kalkulator!$B$10/12)-1),1))) | F8: =IF(E8="","",E8-D8) | G8: =IFERROR(F8/D8,0)
A9: 4 | B9: =E8 | C9: =Kalkulator!B7*12 | D9: =Kalkulator!B6+C9*A9 | E9: =IF(A9>Kalkulator!B9,"",IF(Kalkulator!B8=0,Kalkulator!B6+Kalkulator!B7*12*A9,Kalkulator!B6*(1+((1+Kalkulator!$B$8/100/Kalkulator!$B$10)^(Kalkulator!$B$10/12)-1))^(12*A9)+Kalkulator!B7*(((1+((1+Kalkulator!$B$8/100/Kalkulator!$B$10)^(Kalkulator!$B$10/12)-1))^(12*A9)-1)/((1+Kalkulator!$B$8/100/Kalkulator!$B$10)^(Kalkulator!$B$10/12)-1))*IF(Kalkulator!B11="Początek miesiąca",1+((1+Kalkulator!$B$8/100/Kalkulator!$B$10)^(Kalkulator!$B$10/12)-1),1))) | F9: =IF(E9="","",E9-D9) | G9: =IFERROR(F9/D9,0)
A10: 5 | B10: =E9 | C10: =Kalkulator!B7*12 | D10: =Kalkulator!B6+C10*A10 | E10: =IF(A10>Kalkulator!B9,"",IF(Kalkulator!B8=0,Kalkulator!B6+Kalkulator!B7*12*A10,Kalkulator!B6*(1+((1+Kalkulator!$B$8/100/Kalkulator!$B$10)^(Kalkulator!$B$10/12)-1))^(12*A10)+Kalkulator!B7*(((1+((1+Kalkulator!$B$8/100/Kalkulator!$B$10)^(Kalkulator!$B$10/12)-1))^(12*A10)-1)/((1+Kalkulator!$B$8/100/Kalkulator!$B$10)^(Kalkulator!$B$10/12)-1))*IF(Kalkulator!B11="Początek miesiąca",1+((1+Kalkulator!$B$8/100/Kalkulator!$B$10)^(Kalkulator!$B$10/12)-1),1))) | F10: =IF(E10="","",E10-D10) | G10: =IFERROR(F10/D10,0)
A11: 6 | B11: =E10 | C11: =Kalkulator!B7*12 | D11: =Kalkulator!B6+C11*A11 | E11: =IF(A11>Kalkulator!B9,"",IF(Kalkulator!B8=0,Kalkulator!B6+Kalkulator!B7*12*A11,Kalkulator!B6*(1+((1+Kalkulator!$B$8/100/Kalkulator!$B$10)^(Kalkulator!$B$10/12)-1))^(12*A11)+Kalkulator!B7*(((1+((1+Kalkulator!$B$8/100/Kalkulator!$B$10)^(Kalkulator!$B$10/12)-1))^(12*A11)-1)/((1+Kalkulator!$B$8/100/Kalkulator!$B$10)^(Kalkulator!$B$10/12)-1))*IF(Kalkulator!B11="Początek miesiąca",1+((1+Kalkulator!$B$8/100/Kalkulator!$B$10)^(Kalkulator!$B$10/12)-1),1))) | F11: =IF(E11="","",E11-D11) | G11: =IFERROR(F11/D11,0)
A12: 7 | B12: =E11 | C12: =Kalkulator!B7*12 | D12: =Kalkulator!B6+C12*A12 | E12: =IF(A12>Kalkulator!B9,"",IF(Kalkulator!B8=0,Kalkulator!B6+Kalkulator!B7*12*A12,Kalkulator!B6*(1+((1+Kalkulator!$B$8/100/Kalkulator!$B$10)^(Kalkulator!$B$10/12)-1))^(12*A12)+Kalkulator!B7*(((1+((1+Kalkulator!$B$8/100/Kalkulator!$B$10)^(Kalkulator!$B$10/12)-1))^(12*A12)-1)/((1+Kalkulator!$B$8/100/Kalkulator!$B$10)^(Kalkulator!$B$10/12)-1))*IF(Kalkulator!B11="Początek miesiąca",1+((1+Kalkulator!$B$8/100/Kalkulator!$B$10)^(Kalkulator!$B$10/12)-1),1))) | F12: =IF(E12="","",E12-D12) | G12: =IFERROR(F12/D12,0)
A13: 8 | B13: =E12 | C13: =Kalkulator!B7*12 | D13: =Kalkulator!B6+C13*A13 | E13: =IF(A13>Kalkulator!B9,"",IF(Kalkulator!B8=0,Kalkulator!B6+Kalkulator!B7*12*A13,Kalkulator!B6*(1+((1+Kalkulator!$B$8/100/Kalkulator!$B$10)^(Kalkulator!$B$10/12)-1))^(12*A13)+Kalkulator!B7*(((1+((1+Kalkulator!$B$8/100/Kalkulator!$B$10)^(Kalkulator!$B$10/12)-1))^(12*A13)-1)/((1+Kalkulator!$B$8/100/Kalkulator!$B$10)^(Kalkulator!$B$10/12)-1))*IF(Kalkulator!B11="Początek miesiąca",1+((1+Kalkulator!$B$8/100/Kalkulator!$B$10)^(Kalkulator!$B$10/12)-1),1))) | F13: =IF(E13="","",E13-D13) | G13: =IFERROR(F13/D13,0)
A14: 9 | B14: =E13 | C14: =Kalkulator!B7*12 | D14: =Kalkulator!B6+C14*A14 | E14: =IF(A14>Kalkulator!B9,"",IF(Kalkulator!B8=0,Kalkulator!B6+Kalkulator!B7*12*A14,Kalkulator!B6*(1+((1+Kalkulator!$B$8/100/Kalkulator!$B$10)^(Kalkulator!$B$10/12)-1))^(12*A14)+Kalkulator!B7*(((1+((1+Kalkulator!$B$8/100/Kalkulator!$B$10)^(Kalkulator!$B$10/12)-1))^(12*A14)-1)/((1+Kalkulator!$B$8/100/Kalkulator!$B$10)^(Kalkulator!$B$10/12)-1))*IF(Kalkulator!B11="Początek miesiąca",1+((1+Kalkulator!$B$8/100/Kalkulator!$B$10)^(Kalkulator!$B$10/12)-1),1))) | F14: =IF(E14="","",E14-D14) | G14: =IFERROR(F14/D14,0)
A15: 10 | B15: =E14 | C15: =Kalkulator!B7*12 | D15: =Kalkulator!B6+C15*A15 | E15: =IF(A15>Kalkulator!B9,"",IF(Kalkulator!B8=0,Kalkulator!B6+Kalkulator!B7*12*A15,Kalkulator!B6*(1+((1+Kalkulator!$B$8/100/Kalkulator!$B$10)^(Kalkulator!$B$10/12)-1))^(12*A15)+Kalkulator!B7*(((1+((1+Kalkulator!$B$8/100/Kalkulator!$B$10)^(Kalkulator!$B$10/12)-1))^(12*A15)-1)/((1+Kalkulator!$B$8/100/Kalkulator!$B$10)^(Kalkulator!$B$10/12)-1))*IF(Kalkulator!B11="Początek miesiąca",1+((1+Kalkulator!$B$8/100/Kalkulator!$B$10)^(Kalkulator!$B$10/12)-1),1))) | F15: =IF(E15="","",E15-D15) | G15: =IFERROR(F15/D15,0)
A16: 11 | B16: =E15 | C16: =Kalkulator!B7*12 | D16: =Kalkulator!B6+C16*A16 | E16: =IF(A16>Kalkulator!B9,"",IF(Kalkulator!B8=0,Kalkulator!B6+Kalkulator!B7*12*A16,Kalkulator!B6*(1+((1+Kalkulator!$B$8/100/Kalkulator!$B$10)^(Kalkulator!$B$10/12)-1))^(12*A16)+Kalkulator!B7*(((1+((1+Kalkulator!$B$8/100/Kalkulator!$B$10)^(Kalkulator!$B$10/12)-1))^(12*A16)-1)/((1+Kalkulator!$B$8/100/Kalkulator!$B$10)^(Kalkulator!$B$10/12)-1))*IF(Kalkulator!B11="Początek miesiąca",1+((1+Kalkulator!$B$8/100/Kalkulator!$B$10)^(Kalkulator!$B$10/12)-1),1))) | F16: =IF(E16="","",E16-D16) | G16: =IFERROR(F16/D16,0)
A17: 12 | B17: =E16 | C17: =Kalkulator!B7*12 | D17: =Kalkulator!B6+C17*A17 | E17: =IF(A17>Kalkulator!B9,"",IF(Kalkulator!B8=0,Kalkulator!B6+Kalkulator!B7*12*A17,Kalkulator!B6*(1+((1+Kalkulator!$B$8/100/Kalkulator!$B$10)^(Kalkulator!$B$10/12)-1))^(12*A17)+Kalkulator!B7*(((1+((1+Kalkulator!$B$8/100/Kalkulator!$B$10)^(Kalkulator!$B$10/12)-1))^(12*A17)-1)/((1+Kalkulator!$B$8/100/Kalkulator!$B$10)^(Kalkulator!$B$10/12)-1))*IF(Kalkulator!B11="Początek miesiąca",1+((1+Kalkulator!$B$8/100/Kalkulator!$B$10)^(Kalkulator!$B$10/12)-1),1))) | F17: =IF(E17="","",E17-D17) | G17: =IFERROR(F17/D17,0)
A18: 13 | B18: =E17 | C18: =Kalkulator!B7*12 | D18: =Kalkulator!B6+C18*A18 | E18: =IF(A18>Kalkulator!B9,"",IF(Kalkulator!B8=0,Kalkulator!B6+Kalkulator!B7*12*A18,Kalkulator!B6*(1+((1+Kalkulator!$B$8/100/Kalkulator!$B$10)^(Kalkulator!$B$10/12)-1))^(12*A18)+Kalkulator!B7*(((1+((1+Kalkulator!$B$8/100/Kalkulator!$B$10)^(Kalkulator!$B$10/12)-1))^(12*A18)-1)/((1+Kalkulator!$B$8/100/Kalkulator!$B$10)^(Kalkulator!$B$10/12)-1))*IF(Kalkulator!B11="Początek miesiąca",1+((1+Kalkulator!$B$8/100/Kalkulator!$B$10)^(Kalkulator!$B$10/12)-1),1))) | F18: =IF(E18="","",E18-D18) | G18: =IFERROR(F18/D18,0)
A19: 14 | B19: =E18 | C19: =Kalkulator!B7*12 | D19: =Kalkulator!B6+C19*A19 | E19: =IF(A19>Kalkulator!B9,"",IF(Kalkulator!B8=0,Kalkulator!B6+Kalkulator!B7*12*A19,Kalkulator!B6*(1+((1+Kalkulator!$B$8/100/Kalkulator!$B$10)^(Kalkulator!$B$10/12)-1))^(12*A19)+Kalkulator!B7*(((1+((1+Kalkulator!$B$8/100/Kalkulator!$B$10)^(Kalkulator!$B$10/12)-1))^(12*A19)-1)/((1+Kalkulator!$B$8/100/Kalkulator!$B$10)^(Kalkulator!$B$10/12)-1))*IF(Kalkulator!B11="Początek miesiąca",1+((1+Kalkulator!$B$8/100/Kalkulator!$B$10)^(Kalkulator!$B$10/12)-1),1))) | F19: =IF(E19="","",E19-D19) | G19: =IFERROR(F19/D19,0)
A20: 15 | B20: =E19 | C20: =Kalkulator!B7*12 | D20: =Kalkulator!B6+C20*A20 | E20: =IF(A20>Kalkulator!B9,"",IF(Kalkulator!B8=0,Kalkulator!B6+Kalkulator!B7*12*A20,Kalkulator!B6*(1+((1+Kalkulator!$B$8/100/Kalkulator!$B$10)^(Kalkulator!$B$10/12)-1))^(12*A20)+Kalkulator!B7*(((1+((1+Kalkulator!$B$8/100/Kalkulator!$B$10)^(Kalkulator!$B$10/12)-1))^(12*A20)-1)/((1+Kalkulator!$B$8/100/Kalkulator!$B$10)^(Kalkulator!$B$10/12)-1))*IF(Kalkulator!B11="Początek miesiąca",1+((1+Kalkulator!$B$8/100/Kalkulator!$B$10)^(Kalkulator!$B$10/12)-1),1))) | F20: =IF(E20="","",E20-D20) | G20: =IFERROR(F20/D20,0)
A21: 16 | B21: =E20 | C21: =Kalkulator!B7*12 | D21: =Kalkulator!B6+C21*A21 | E21: =IF(A21>Kalkulator!B9,"",IF(Kalkulator!B8=0,Kalkulator!B6+Kalkulator!B7*12*A21,Kalkulator!B6*(1+((1+Kalkulator!$B$8/100/Kalkulator!$B$10)^(Kalkulator!$B$10/12)-1))^(12*A21)+Kalkulator!B7*(((1+((1+Kalkulator!$B$8/100/Kalkulator!$B$10)^(Kalkulator!$B$10/12)-1))^(12*A21)-1)/((1+Kalkulator!$B$8/100/Kalkulator!$B$10)^(Kalkulator!$B$10/12)-1))*IF(Kalkulator!B11="Początek miesiąca",1+((1+Kalkulator!$B$8/100/Kalkulator!$B$10)^(Kalkulator!$B$10/12)-1),1))) | F21: =IF(E21="","",E21-D21) | G21: =IFERROR(F21/D21,0)
A22: 17 | B22: =E21 | C22: =Kalkulator!B7*12 | D22: =Kalkulator!B6+C22*A22 | E22: =IF(A22>Kalkulator!B9,"",IF(Kalkulator!B8=0,Kalkulator!B6+Kalkulator!B7*12*A22,Kalkulator!B6*(1+((1+Kalkulator!$B$8/100/Kalkulator!$B$10)^(Kalkulator!$B$10/12)-1))^(12*A22)+Kalkulator!B7*(((1+((1+Kalkulator!$B$8/100/Kalkulator!$B$10)^(Kalkulator!$B$10/12)-1))^(12*A22)-1)/((1+Kalkulator!$B$8/100/Kalkulator!$B$10)^(Kalkulator!$B$10/12)-1))*IF(Kalkulator!B11="Początek miesiąca",1+((1+Kalkulator!$B$8/100/Kalkulator!$B$10)^(Kalkulator!$B$10/12)-1),1))) | F22: =IF(E22="","",E22-D22) | G22: =IFERROR(F22/D22,0)
A23: 18 | B23: =E22 | C23: =Kalkulator!B7*12 | D23: =Kalkulator!B6+C23*A23 | E23: =IF(A23>Kalkulator!B9,"",IF(Kalkulator!B8=0,Kalkulator!B6+Kalkulator!B7*12*A23,Kalkulator!B6*(1+((1+Kalkulator!$B$8/100/Kalkulator!$B$10)^(Kalkulator!$B$10/12)-1))^(12*A23)+Kalkulator!B7*(((1+((1+Kalkulator!$B$8/100/Kalkulator!$B$10)^(Kalkulator!$B$10/12)-1))^(12*A23)-1)/((1+Kalkulator!$B$8/100/Kalkulator!$B$10)^(Kalkulator!$B$10/12)-1))*IF(Kalkulator!B11="Początek miesiąca",1+((1+Kalkulator!$B$8/100/Kalkulator!$B$10)^(Kalkulator!$B$10/12)-1),1))) | F23: =IF(E23="","",E23-D23) | G23: =IFERROR(F23/D23,0)
A24: 19 | B24: =E23 | C24: =Kalkulator!B7*12 | D24: =Kalkulator!B6+C24*A24 | E24: =IF(A24>Kalkulator!B9,"",IF(Kalkulator!B8=0,Kalkulator!B6+Kalkulator!B7*12*A24,Kalkulator!B6*(1+((1+Kalkulator!$B$8/100/Kalkulator!$B$10)^(Kalkulator!$B$10/12)-1))^(12*A24)+Kalkulator!B7*(((1+((1+Kalkulator!$B$8/100/Kalkulator!$B$10)^(Kalkulator!$B$10/12)-1))^(12*A24)-1)/((1+Kalkulator!$B$8/100/Kalkulator!$B$10)^(Kalkulator!$B$10/12)-1))*IF(Kalkulator!B11="Początek miesiąca",1+((1+Kalkulator!$B$8/100/Kalkulator!$B$10)^(Kalkulator!$B$10/12)-1),1))) | F24: =IF(E24="","",E24-D24) | G24: =IFERROR(F24/D24,0)
A25: 20 | B25: =E24 | C25: =Kalkulator!B7*12 | D25: =Kalkulator!B6+C25*A25 | E25: =IF(A25>Kalkulator!B9,"",IF(Kalkulator!B8=0,Kalkulator!B6+Kalkulator!B7*12*A25,Kalkulator!B6*(1+((1+Kalkulator!$B$8/100/Kalkulator!$B$10)^(Kalkulator!$B$10/12)-1))^(12*A25)+Kalkulator!B7*(((1+((1+Kalkulator!$B$8/100/Kalkulator!$B$10)^(Kalkulator!$B$10/12)-1))^(12*A25)-1)/((1+Kalkulator!$B$8/100/Kalkulator!$B$10)^(Kalkulator!$B$10/12)-1))*IF(Kalkulator!B11="Początek miesiąca",1+((1+Kalkulator!$B$8/100/Kalkulator!$B$10)^(Kalkulator!$B$10/12)-1),1))) | F25: =IF(E25="","",E25-D25) | G25: =IFERROR(F25/D25,0)
A26: 21 | B26: =E25 | C26: =Kalkulator!B7*12 | D26: =Kalkulator!B6+C26*A26 | E26: =IF(A26>Kalkulator!B9,"",IF(Kalkulator!B8=0,Kalkulator!B6+Kalkulator!B7*12*A26,Kalkulator!B6*(1+((1+Kalkulator!$B$8/100/Kalkulator!$B$10)^(Kalkulator!$B$10/12)-1))^(12*A26)+Kalkulator!B7*(((1+((1+Kalkulator!$B$8/100/Kalkulator!$B$10)^(Kalkulator!$B$10/12)-1))^(12*A26)-1)/((1+Kalkulator!$B$8/100/Kalkulator!$B$10)^(Kalkulator!$B$10/12)-1))*IF(Kalkulator!B11="Początek miesiąca",1+((1+Kalkulator!$B$8/100/Kalkulator!$B$10)^(Kalkulator!$B$10/12)-1),1))) | F26: =IF(E26="","",E26-D26) | G26: =IFERROR(F26/D26,0)
A27: 22 | B27: =E26 | C27: =Kalkulator!B7*12 | D27: =Kalkulator!B6+C27*A27 | E27: =IF(A27>Kalkulator!B9,"",IF(Kalkulator!B8=0,Kalkulator!B6+Kalkulator!B7*12*A27,Kalkulator!B6*(1+((1+Kalkulator!$B$8/100/Kalkulator!$B$10)^(Kalkulator!$B$10/12)-1))^(12*A27)+Kalkulator!B7*(((1+((1+Kalkulator!$B$8/100/Kalkulator!$B$10)^(Kalkulator!$B$10/12)-1))^(12*A27)-1)/((1+Kalkulator!$B$8/100/Kalkulator!$B$10)^(Kalkulator!$B$10/12)-1))*IF(Kalkulator!B11="Początek miesiąca",1+((1+Kalkulator!$B$8/100/Kalkulator!$B$10)^(Kalkulator!$B$10/12)-1),1))) | F27: =IF(E27="","",E27-D27) | G27: =IFERROR(F27/D27,0)
A28: 23 | B28: =E27 | C28: =Kalkulator!B7*12 | D28: =Kalkulator!B6+C28*A28 | E28: =IF(A28>Kalkulator!B9,"",IF(Kalkulator!B8=0,Kalkulator!B6+Kalkulator!B7*12*A28,Kalkulator!B6*(1+((1+Kalkulator!$B$8/100/Kalkulator!$B$10)^(Kalkulator!$B$10/12)-1))^(12*A28)+Kalkulator!B7*(((1+((1+Kalkulator!$B$8/100/Kalkulator!$B$10)^(Kalkulator!$B$10/12)-1))^(12*A28)-1)/((1+Kalkulator!$B$8/100/Kalkulator!$B$10)^(Kalkulator!$B$10/12)-1))*IF(Kalkulator!B11="Początek miesiąca",1+((1+Kalkulator!$B$8/100/Kalkulator!$B$10)^(Kalkulator!$B$10/12)-1),1))) | F28: =IF(E28="","",E28-D28) | G28: =IFERROR(F28/D28,0)
A29: 24 | B29: =E28 | C29: =Kalkulator!B7*12 | D29: =Kalkulator!B6+C29*A29 | E29: =IF(A29>Kalkulator!B9,"",IF(Kalkulator!B8=0,Kalkulator!B6+Kalkulator!B7*12*A29,Kalkulator!B6*(1+((1+Kalkulator!$B$8/100/Kalkulator!$B$10)^(Kalkulator!$B$10/12)-1))^(12*A29)+Kalkulator!B7*(((1+((1+Kalkulator!$B$8/100/Kalkulator!$B$10)^(Kalkulator!$B$10/12)-1))^(12*A29)-1)/((1+Kalkulator!$B$8/100/Kalkulator!$B$10)^(Kalkulator!$B$10/12)-1))*IF(Kalkulator!B11="Początek miesiąca",1+((1+Kalkulator!$B$8/100/Kalkulator!$B$10)^(Kalkulator!$B$10/12)-1),1))) | F29: =IF(E29="","",E29-D29) | G29: =IFERROR(F29/D29,0)
A30: 25 | B30: =E29 | C30: =Kalkulator!B7*12 | D30: =Kalkulator!B6+C30*A30 | E30: =IF(A30>Kalkulator!B9,"",IF(Kalkulator!B8=0,Kalkulator!B6+Kalkulator!B7*12*A30,Kalkulator!B6*(1+((1+Kalkulator!$B$8/100/Kalkulator!$B$10)^(Kalkulator!$B$10/12)-1))^(12*A30)+Kalkulator!B7*(((1+((1+Kalkulator!$B$8/100/Kalkulator!$B$10)^(Kalkulator!$B$10/12)-1))^(12*A30)-1)/((1+Kalkulator!$B$8/100/Kalkulator!$B$10)^(Kalkulator!$B$10/12)-1))*IF(Kalkulator!B11="Początek miesiąca",1+((1+Kalkulator!$B$8/100/Kalkulator!$B$10)^(Kalkulator!$B$10/12)-1),1))) | F30: =IF(E30="","",E30-D30) | G30: =IFERROR(F30/D30,0)
A31: 26 | B31: =E30 | C31: =Kalkulator!B7*12 | D31: =Kalkulator!B6+C31*A31 | E31: =IF(A31>Kalkulator!B9,"",IF(Kalkulator!B8=0,Kalkulator!B6+Kalkulator!B7*12*A31,Kalkulator!B6*(1+((1+Kalkulator!$B$8/100/Kalkulator!$B$10)^(Kalkulator!$B$10/12)-1))^(12*A31)+Kalkulator!B7*(((1+((1+Kalkulator!$B$8/100/Kalkulator!$B$10)^(Kalkulator!$B$10/12)-1))^(12*A31)-1)/((1+Kalkulator!$B$8/100/Kalkulator!$B$10)^(Kalkulator!$B$10/12)-1))*IF(Kalkulator!B11="Początek miesiąca",1+((1+Kalkulator!$B$8/100/Kalkulator!$B$10)^(Kalkulator!$B$10/12)-1),1))) | F31: =IF(E31="","",E31-D31) | G31: =IFERROR(F31/D31,0)
A32: 27 | B32: =E31 | C32: =Kalkulator!B7*12 | D32: =Kalkulator!B6+C32*A32 | E32: =IF(A32>Kalkulator!B9,"",IF(Kalkulator!B8=0,Kalkulator!B6+Kalkulator!B7*12*A32,Kalkulator!B6*(1+((1+Kalkulator!$B$8/100/Kalkulator!$B$10)^(Kalkulator!$B$10/12)-1))^(12*A32)+Kalkulator!B7*(((1+((1+Kalkulator!$B$8/100/Kalkulator!$B$10)^(Kalkulator!$B$10/12)-1))^(12*A32)-1)/((1+Kalkulator!$B$8/100/Kalkulator!$B$10)^(Kalkulator!$B$10/12)-1))*IF(Kalkulator!B11="Początek miesiąca",1+((1+Kalkulator!$B$8/100/Kalkulator!$B$10)^(Kalkulator!$B$10/12)-1),1))) | F32: =IF(E32="","",E32-D32) | G32: =IFERROR(F32/D32,0)
A33: 28 | B33: =E32 | C33: =Kalkulator!B7*12 | D33: =Kalkulator!B6+C33*A33 | E33: =IF(A33>Kalkulator!B9,"",IF(Kalkulator!B8=0,Kalkulator!B6+Kalkulator!B7*12*A33,Kalkulator!B6*(1+((1+Kalkulator!$B$8/100/Kalkulator!$B$10)^(Kalkulator!$B$10/12)-1))^(12*A33)+Kalkulator!B7*(((1+((1+Kalkulator!$B$8/100/Kalkulator!$B$10)^(Kalkulator!$B$10/12)-1))^(12*A33)-1)/((1+Kalkulator!$B$8/100/Kalkulator!$B$10)^(Kalkulator!$B$10/12)-1))*IF(Kalkulator!B11="Początek miesiąca",1+((1+Kalkulator!$B$8/100/Kalkulator!$B$10)^(Kalkulator!$B$10/12)-1),1))) | F33: =IF(E33="","",E33-D33) | G33: =IFERROR(F33/D33,0)
A34: 29 | B34: =E33 | C34: =Kalkulator!B7*12 | D34: =Kalkulator!B6+C34*A34 | E34: =IF(A34>Kalkulator!B9,"",IF(Kalkulator!B8=0,Kalkulator!B6+Kalkulator!B7*12*A34,Kalkulator!B6*(1+((1+Kalkulator!$B$8/100/Kalkulator!$B$10)^(Kalkulator!$B$10/12)-1))^(12*A34)+Kalkulator!B7*(((1+((1+Kalkulator!$B$8/100/Kalkulator!$B$10)^(Kalkulator!$B$10/12)-1))^(12*A34)-1)/((1+Kalkulator!$B$8/100/Kalkulator!$B$10)^(Kalkulator!$B$10/12)-1))*IF(Kalkulator!B11="Początek miesiąca",1+((1+Kalkulator!$B$8/100/Kalkulator!$B$10)^(Kalkulator!$B$10/12)-1),1))) | F34: =IF(E34="","",E34-D34) | G34: =IFERROR(F34/D34,0)
A35: 30 | B35: =E34 | C35: =Kalkulator!B7*12 | D35: =Kalkulator!B6+C35*A35 | E35: =IF(A35>Kalkulator!B9,"",IF(Kalkulator!B8=0,Kalkulator!B6+Kalkulator!B7*12*A35,Kalkulator!B6*(1+((1+Kalkulator!$B$8/100/Kalkulator!$B$10)^(Kalkulator!$B$10/12)-1))^(12*A35)+Kalkulator!B7*(((1+((1+Kalkulator!$B$8/100/Kalkulator!$B$10)^(Kalkulator!$B$10/12)-1))^(12*A35)-1)/((1+Kalkulator!$B$8/100/Kalkulator!$B$10)^(Kalkulator!$B$10/12)-1))*IF(Kalkulator!B11="Początek miesiąca",1+((1+Kalkulator!$B$8/100/Kalkulator!$B$10)^(Kalkulator!$B$10/12)-1),1))) | F35: =IF(E35="","",E35-D35) | G35: =IFERROR(F35/D35,0)
A36: 31 | B36: =E35 | C36: =Kalkulator!B7*12 | D36: =Kalkulator!B6+C36*A36 | E36: =IF(A36>Kalkulator!B9,"",IF(Kalkulator!B8=0,Kalkulator!B6+Kalkulator!B7*12*A36,Kalkulator!B6*(1+((1+Kalkulator!$B$8/100/Kalkulator!$B$10)^(Kalkulator!$B$10/12)-1))^(12*A36)+Kalkulator!B7*(((1+((1+Kalkulator!$B$8/100/Kalkulator!$B$10)^(Kalkulator!$B$10/12)-1))^(12*A36)-1)/((1+Kalkulator!$B$8/100/Kalkulator!$B$10)^(Kalkulator!$B$10/12)-1))*IF(Kalkulator!B11="Początek miesiąca",1+((1+Kalkulator!$B$8/100/Kalkulator!$B$10)^(Kalkulator!$B$10/12)-1),1))) | F36: =IF(E36="","",E36-D36) | G36: =IFERROR(F36/D36,0)
A37: 32 | B37: =E36 | C37: =Kalkulator!B7*12 | D37: =Kalkulator!B6+C37*A37 | E37: =IF(A37>Kalkulator!B9,"",IF(Kalkulator!B8=0,Kalkulator!B6+Kalkulator!B7*12*A37,Kalkulator!B6*(1+((1+Kalkulator!$B$8/100/Kalkulator!$B$10)^(Kalkulator!$B$10/12)-1))^(12*A37)+Kalkulator!B7*(((1+((1+Kalkulator!$B$8/100/Kalkulator!$B$10)^(Kalkulator!$B$10/12)-1))^(12*A37)-1)/((1+Kalkulator!$B$8/100/Kalkulator!$B$10)^(Kalkulator!$B$10/12)-1))*IF(Kalkulator!B11="Początek miesiąca",1+((1+Kalkulator!$B$8/100/Kalkulator!$B$10)^(Kalkulator!$B$10/12)-1),1))) | F37: =IF(E37="","",E37-D37) | G37: =IFERROR(F37/D37,0)
A38: 33 | B38: =E37 | C38: =Kalkulator!B7*12 | D38: =Kalkulator!B6+C38*A38 | E38: =IF(A38>Kalkulator!B9,"",IF(Kalkulator!B8=0,Kalkulator!B6+Kalkulator!B7*12*A38,Kalkulator!B6*(1+((1+Kalkulator!$B$8/100/Kalkulator!$B$10)^(Kalkulator!$B$10/12)-1))^(12*A38)+Kalkulator!B7*(((1+((1+Kalkulator!$B$8/100/Kalkulator!$B$10)^(Kalkulator!$B$10/12)-1))^(12*A38)-1)/((1+Kalkulator!$B$8/100/Kalkulator!$B$10)^(Kalkulator!$B$10/12)-1))*IF(Kalkulator!B11="Początek miesiąca",1+((1+Kalkulator!$B$8/100/Kalkulator!$B$10)^(Kalkulator!$B$10/12)-1),1))) | F38: =IF(E38="","",E38-D38) | G38: =IFERROR(F38/D38,0)
A39: 34 | B39: =E38 | C39: =Kalkulator!B7*12 | D39: =Kalkulator!B6+C39*A39 | E39: =IF(A39>Kalkulator!B9,"",IF(Kalkulator!B8=0,Kalkulator!B6+Kalkulator!B7*12*A39,Kalkulator!B6*(1+((1+Kalkulator!$B$8/100/Kalkulator!$B$10)^(Kalkulator!$B$10/12)-1))^(12*A39)+Kalkulator!B7*(((1+((1+Kalkulator!$B$8/100/Kalkulator!$B$10)^(Kalkulator!$B$10/12)-1))^(12*A39)-1)/((1+Kalkulator!$B$8/100/Kalkulator!$B$10)^(Kalkulator!$B$10/12)-1))*IF(Kalkulator!B11="Początek miesiąca",1+((1+Kalkulator!$B$8/100/Kalkulator!$B$10)^(Kalkulator!$B$10/12)-1),1))) | F39: =IF(E39="","",E39-D39) | G39: =IFERROR(F39/D39,0)
A40: 35 | B40: =E39 | C40: =Kalkulator!B7*12 | D40: =Kalkulator!B6+C40*A40 | E40: =IF(A40>Kalkulator!B9,"",IF(Kalkulator!B8=0,Kalkulator!B6+Kalkulator!B7*12*A40,Kalkulator!B6*(1+((1+Kalkulator!$B$8/100/Kalkulator!$B$10)^(Kalkulator!$B$10/12)-1))^(12*A40)+Kalkulator!B7*(((1+((1+Kalkulator!$B$8/100/Kalkulator!$B$10)^(Kalkulator!$B$10/12)-1))^(12*A40)-1)/((1+Kalkulator!$B$8/100/Kalkulator!$B$10)^(Kalkulator!$B$10/12)-1))*IF(Kalkulator!B11="Początek miesiąca",1+((1+Kalkulator!$B$8/100/Kalkulator!$B$10)^(Kalkulator!$B$10/12)-1),1))) | F40: =IF(E40="","",E40-D40) | G40: =IFERROR(F40/D40,0)
A41: 36 | B41: =E40 | C41: =Kalkulator!B7*12 | D41: =Kalkulator!B6+C41*A41 | E41: =IF(A41>Kalkulator!B9,"",IF(Kalkulator!B8=0,Kalkulator!B6+Kalkulator!B7*12*A41,Kalkulator!B6*(1+((1+Kalkulator!$B$8/100/Kalkulator!$B$10)^(Kalkulator!$B$10/12)-1))^(12*A41)+Kalkulator!B7*(((1+((1+Kalkulator!$B$8/100/Kalkulator!$B$10)^(Kalkulator!$B$10/12)-1))^(12*A41)-1)/((1+Kalkulator!$B$8/100/Kalkulator!$B$10)^(Kalkulator!$B$10/12)-1))*IF(Kalkulator!B11="Początek miesiąca",1+((1+Kalkulator!$B$8/100/Kalkulator!$B$10)^(Kalkulator!$B$10/12)-1),1))) | F41: =IF(E41="","",E41-D41) | G41: =IFERROR(F41/D41,0)
A42: 37 | B42: =E41 | C42: =Kalkulator!B7*12 | D42: =Kalkulator!B6+C42*A42 | E42: =IF(A42>Kalkulator!B9,"",IF(Kalkulator!B8=0,Kalkulator!B6+Kalkulator!B7*12*A42,Kalkulator!B6*(1+((1+Kalkulator!$B$8/100/Kalkulator!$B$10)^(Kalkulator!$B$10/12)-1))^(12*A42)+Kalkulator!B7*(((1+((1+Kalkulator!$B$8/100/Kalkulator!$B$10)^(Kalkulator!$B$10/12)-1))^(12*A42)-1)/((1+Kalkulator!$B$8/100/Kalkulator!$B$10)^(Kalkulator!$B$10/12)-1))*IF(Kalkulator!B11="Początek miesiąca",1+((1+Kalkulator!$B$8/100/Kalkulator!$B$10)^(Kalkulator!$B$10/12)-1),1))) | F42: =IF(E42="","",E42-D42) | G42: =IFERROR(F42/D42,0)
...

Sheet Instrukcja
A1: FINANSE POD LUPĄ | JAK KORZYSTAĆ Z KALKULATORA
A3: Krótka instrukcja obsługi kalkulatora procentu składanego.
A5: KROK PO KROKU
A6: 01 | B6: Kapitał początkowy | C6: Kwota, od której zaczynasz. Jeśli zaczynasz od zera, wpisz 0 zł.
A7: 02 | B7: Miesięczna wpłata | C7: Kwota regularnie dopłacana co miesiąc. Wpisz 0 zł, jeśli nie planujesz dopłat.
A8: 03 | B8: Roczna stopa zwrotu | C8: Hipotetyczna nominalna stopa zwrotu, np. 7 oznacza 7%. Nie jest to gwarantowany wynik.
A9: 04 | B9: Okres inwestowania | C9: Liczba pełnych lat — od 1 do 60.
A10: 05 | B10: Kapitalizacja | C10: Wybierz 1, 2, 4, 12 lub 365 razy w roku.
A11: 06 | B11: Moment wpłaty | C11: Początek miesiąca oznacza, że wpłata pracuje przez dodatkowy miesiąc względem wpłaty na koniec miesiąca.
A12: 07 | B12: Analiza wyniku | C12: Arkusz Kalkulator pokazuje podsumowanie i wykres, a Rok po roku szczegółowy harmonogram.
A15: JAK DZIAŁA PROCENT SKŁADANY?
A16: Procent składany polega na tym, że z czasem zysk może być naliczany nie tylko od początkowego kapitału, lecz także od wcześniej wypracowanych zysków. Efekt zależy m.in. od wysokości stopy zwrotu, częstotliwości kapitalizacji, regularności wpłat i długości inwestowania.
A20: WAŻNE ZASTRZEŻENIA
A21: Kalkulator ma charakter edukacyjny i ilustracyjny. Przyjmuje stałą stopę zwrotu, podczas gdy rzeczywiste wyniki inwestycji są zmienne i mogą oznaczać stratę. Model nie uwzględnia podatków, opłat, prowizji ani inflacji. Nie stanowi porady inwestycyjnej ani obietnicy osiągnięcia określonego wyniku. Przed podjęciem decyzji finansowej zweryfikuj założenia i uwzględnij własną sytuację.
