Workbook

Sheet Kalkulator
A1: KALKULATOR PODUSZKI FINANSOWEJ
A3: TWOJA SYTUACJA FINANSOWA
A4: Miesięczne niezbędne wydatki | B4: 4500 | C4: zł
A5: Miesięczne pozostałe wydatki | B5: 1500 | C5: zł
A6: Liczba miesięcy zabezpieczenia | B6: 6 | C6: mies.
A7: Obecne oszczędności | B7: 12000 | C7: zł
A8: Regularna miesięczna kwota oszczędzania | B8: 1000 | C8: zł
A9: Oprocentowanie oszczędności w skali roku | B9: 0.03 | C9: %
A10: Szacowany podatek od odsetek | B10: 0.19 | C10: %
A13: WYNIKI
A14: Łączne miesięczne wydatki | B14: =SUM(B4:B5) | C14: zł
A15: Docelowa wysokość poduszki | B15: =B14*B6 | C15: zł
A16: Brakująca kwota do celu | B16: =MAX(0,B15-B7) | C16: zł
A17: Poziom realizacji celu | B17: =IFERROR(MIN(1,B7/B15),0) | C17: %
A18: Liczba miesięcy do osiągnięcia celu | B18: =IF(B16=0,0,IF(B8<=0,999,IFERROR(MATCH(TRUE,'Plan oszczędzania'!D4:D123>=B15,0),999))) | C18: mies.
A19: Szacowany czas budowania poduszki | B19: =IF(B16=0,0,IF(B8<=0,999,ROUNDUP(B16/B8,0))) | C19: mies. bez odsetek
A20: Rekomendowany zakres 3–6 miesięcy | B20: =B14*3&" – "&B14*6 | C20: zł
A23: Poduszka finansowa powinna być łatwo dostępna i bezpieczna. Kalkulator przyjmuje wskazaną liczbę miesięcy wydatków oraz stałą stopę oprocentowania. Nie uwzględnia zmian wydatków, opłat, zmiennego oprocentowania ani sytuacji szczególnych. Kwota docelowa zależy od stabilności dochodów, liczby osób na utrzymaniu i indywidualnego ryzyka.

Sheet Plan oszczędzania
A1: PLAN BUDOWANIA PODUSZKI
A3: Miesiąc | B3: Wpłata | C3: Odsetki netto | D3: Saldo na koniec miesiąca | E3: Postęp celu
A4: 1 | B4: =IF(A4<=120,Kalkulator!$B$8,0) | C4: =Kalkulator!$B$7*((1+Kalkulator!$B$9)^(1/12)-1)*(1-Kalkulator!$B$10) | D4: =IF(A4=1,Kalkulator!$B$7+B4+C4,D3+B4+C4) | E4: =IFERROR(MIN(1,D4/Kalkulator!$B$15),0)
A5: 2 | B5: =IF(A5<=120,Kalkulator!$B$8,0) | C5: =IF(D4="",0,D4)*((1+Kalkulator!$B$9)^(1/12)-1)*(1-Kalkulator!$B$10) | D5: =IF(A5=1,Kalkulator!$B$7+B5+C5,D4+B5+C5) | E5: =IFERROR(MIN(1,D5/Kalkulator!$B$15),0)
A6: 3 | B6: =IF(A6<=120,Kalkulator!$B$8,0) | C6: =IF(D5="",0,D5)*((1+Kalkulator!$B$9)^(1/12)-1)*(1-Kalkulator!$B$10) | D6: =IF(A6=1,Kalkulator!$B$7+B6+C6,D5+B6+C6) | E6: =IFERROR(MIN(1,D6/Kalkulator!$B$15),0)
A7: 4 | B7: =IF(A7<=120,Kalkulator!$B$8,0) | C7: =IF(D6="",0,D6)*((1+Kalkulator!$B$9)^(1/12)-1)*(1-Kalkulator!$B$10) | D7: =IF(A7=1,Kalkulator!$B$7+B7+C7,D6+B7+C7) | E7: =IFERROR(MIN(1,D7/Kalkulator!$B$15),0)
A8: 5 | B8: =IF(A8<=120,Kalkulator!$B$8,0) | C8: =IF(D7="",0,D7)*((1+Kalkulator!$B$9)^(1/12)-1)*(1-Kalkulator!$B$10) | D8: =IF(A8=1,Kalkulator!$B$7+B8+C8,D7+B8+C8) | E8: =IFERROR(MIN(1,D8/Kalkulator!$B$15),0)
A9: 6 | B9: =IF(A9<=120,Kalkulator!$B$8,0) | C9: =IF(D8="",0,D8)*((1+Kalkulator!$B$9)^(1/12)-1)*(1-Kalkulator!$B$10) | D9: =IF(A9=1,Kalkulator!$B$7+B9+C9,D8+B9+C9) | E9: =IFERROR(MIN(1,D9/Kalkulator!$B$15),0)
A10: 7 | B10: =IF(A10<=120,Kalkulator!$B$8,0) | C10: =IF(D9="",0,D9)*((1+Kalkulator!$B$9)^(1/12)-1)*(1-Kalkulator!$B$10) | D10: =IF(A10=1,Kalkulator!$B$7+B10+C10,D9+B10+C10) | E10: =IFERROR(MIN(1,D10/Kalkulator!$B$15),0)
A11: 8 | B11: =IF(A11<=120,Kalkulator!$B$8,0) | C11: =IF(D10="",0,D10)*((1+Kalkulator!$B$9)^(1/12)-1)*(1-Kalkulator!$B$10) | D11: =IF(A11=1,Kalkulator!$B$7+B11+C11,D10+B11+C11) | E11: =IFERROR(MIN(1,D11/Kalkulator!$B$15),0)
A12: 9 | B12: =IF(A12<=120,Kalkulator!$B$8,0) | C12: =IF(D11="",0,D11)*((1+Kalkulator!$B$9)^(1/12)-1)*(1-Kalkulator!$B$10) | D12: =IF(A12=1,Kalkulator!$B$7+B12+C12,D11+B12+C12) | E12: =IFERROR(MIN(1,D12/Kalkulator!$B$15),0)
A13: 10 | B13: =IF(A13<=120,Kalkulator!$B$8,0) | C13: =IF(D12="",0,D12)*((1+Kalkulator!$B$9)^(1/12)-1)*(1-Kalkulator!$B$10) | D13: =IF(A13=1,Kalkulator!$B$7+B13+C13,D12+B13+C13) | E13: =IFERROR(MIN(1,D13/Kalkulator!$B$15),0)
A14: 11 | B14: =IF(A14<=120,Kalkulator!$B$8,0) | C14: =IF(D13="",0,D13)*((1+Kalkulator!$B$9)^(1/12)-1)*(1-Kalkulator!$B$10) | D14: =IF(A14=1,Kalkulator!$B$7+B14+C14,D13+B14+C14) | E14: =IFERROR(MIN(1,D14/Kalkulator!$B$15),0)
A15: 12 | B15: =IF(A15<=120,Kalkulator!$B$8,0) | C15: =IF(D14="",0,D14)*((1+Kalkulator!$B$9)^(1/12)-1)*(1-Kalkulator!$B$10) | D15: =IF(A15=1,Kalkulator!$B$7+B15+C15,D14+B15+C15) | E15: =IFERROR(MIN(1,D15/Kalkulator!$B$15),0)
A16: 13 | B16: =IF(A16<=120,Kalkulator!$B$8,0) | C16: =IF(D15="",0,D15)*((1+Kalkulator!$B$9)^(1/12)-1)*(1-Kalkulator!$B$10) | D16: =IF(A16=1,Kalkulator!$B$7+B16+C16,D15+B16+C16) | E16: =IFERROR(MIN(1,D16/Kalkulator!$B$15),0)
... A123: 120 | B123: =IF(A123<=120,Kalkulator!$B$8,0) | C123: =IF(D122="",0,D122)*((1+Kalkulator!$B$9)^(1/12)-1)*(1-Kalkulator!$B$10) | D123: =IF(A123=1,Kalkulator!$B$7+B123+C123,D122+B123+C123) | E123: =IFERROR(MIN(1,D123/Kalkulator!$B$15),0)

Sheet Instrukcja
A1: INSTRUKCJA
A3: 1. Wydatki | B3: Wpisz miesięczne niezbędne wydatki oraz pozostałe wydatki, które chcesz uwzględnić w zabezpieczeniu.
A4: 2. Cel | B4: Wybierz liczbę miesięcy, na które ma wystarczyć poduszka. Często rozważa się zakres 3–6 miesięcy, a przy niestabilnych dochodach lub większych zobowiązaniach dłuższy okres.
A5: 3. Obecne środki | B5: Podaj kwotę, którą już masz odłożoną, oraz miesięczną kwotę regularnego oszczędzania.
A6: 4. Oprocentowanie | B6: Opcjonalnie uwzględnij roczne oprocentowanie oszczędności i szacowany podatek od odsetek. Rzeczywiste stawki mogą się zmieniać.
A7: 5. Plan oszczędzania | B7: Arkusz pokazuje szacowany wzrost salda miesiąc po miesiącu, przy założeniu stałych wpłat i oprocentowania.
A8: Ważne | B8: To narzędzie edukacyjne. Poduszka finansowa zwykle powinna być przechowywana w płynnych, niskiego ryzyka rozwiązaniach, a nie w aktywach o dużej zmienności. Dobierz cel do swojej sytuacji.
