Workbook

Sheet Kalkulator
A1: KALKULATOR INFLACJI | J1: Rok | K1: Siła nabywcza | L1: Kwota potrzebna
J2: 0 | K2: =IF(J2>$B$8,NA(),$B$6/(1+$B$7/100)^J2) | L2: =IF(J2>$B$8,NA(),$B$6*(1+$B$7/100)^J2)
A3: Sprawdź, jak inflacja wpływa na siłę nabywczą pieniędzy w czasie. | J3: 1 | K3: =IF(J3>$B$8,NA(),$B$6/(1+$B$7/100)^J3) | L3: =IF(J3>$B$8,NA(),$B$6*(1+$B$7/100)^J3)
J4: 2 | K4: =IF(J4>$B$8,NA(),$B$6/(1+$B$7/100)^J4) | L4: =IF(J4>$B$8,NA(),$B$6*(1+$B$7/100)^J4)
A5: USTAWIENIA SYMULACJI | E5: WYNIK | J5: 3 | K5: =IF(J5>$B$8,NA(),$B$6/(1+$B$7/100)^J5) | L5: =IF(J5>$B$8,NA(),$B$6*(1+$B$7/100)^J5)
A6: Kwota początkowa | B6: 10000 | D6: zł | E6: SIŁA NABYWCZA PO OKRESIE | G6: KWOTA POTRZEBNA W PRZYSZŁOŚCI | J6: 4 | K6: =IF(J6>$B$8,NA(),$B$6/(1+$B$7/100)^J6) | L6: =IF(J6>$B$8,NA(),$B$6*(1+$B$7/100)^J6)
A7: Średnia roczna inflacja | B7: 3.5 | D7: % | E7: =$B$6/(1+$B$7/100)^$B$8 | G7: =$B$6*(1+$B$7/100)^$B$8 | J7: 5 | K7: =IF(J7>$B$8,NA(),$B$6/(1+$B$7/100)^J7) | L7: =IF(J7>$B$8,NA(),$B$6*(1+$B$7/100)^J7)
A8: Okres | B8: 10 | D8: lat | J8: 6 | K8: =IF(J8>$B$8,NA(),$B$6/(1+$B$7/100)^J8) | L8: =IF(J8>$B$8,NA(),$B$6*(1+$B$7/100)^J8)
J9: 7 | K9: =IF(J9>$B$8,NA(),$B$6/(1+$B$7/100)^J9) | L9: =IF(J9>$B$8,NA(),$B$6*(1+$B$7/100)^J9)
E10: ŁĄCZNY WZROST CEN | G10: UTRATA SIŁY NABYWCZEJ | J10: 8 | K10: =IF(J10>$B$8,NA(),$B$6/(1+$B$7/100)^J10) | L10: =IF(J10>$B$8,NA(),$B$6*(1+$B$7/100)^J10)
A11: Interpretacja: „siła nabywcza” pokazuje, ile w dzisiejszych złotych będzie warta podana kwota po uwzględnieniu inflacji. „Kwota potrzebna w przyszłości” pokazuje, ile trzeba będzie mieć, aby zachować dzisiejszą siłę nabywczą. | E11: =((1+$B$7/100)^$B$8)-1 | G11: =1-E7/B6 | J11: 9 | K11: =IF(J11>$B$8,NA(),$B$6/(1+$B$7/100)^J11) | L11: =IF(J11>$B$8,NA(),$B$6*(1+$B$7/100)^J11)
J12: 10 | K12: =IF(J12>$B$8,NA(),$B$6/(1+$B$7/100)^J12) | L12: =IF(J12>$B$8,NA(),$B$6*(1+$B$7/100)^J12)
J13: 11 | K13: =IF(J13>$B$8,NA(),$B$6/(1+$B$7/100)^J13) | L13: =IF(J13>$B$8,NA(),$B$6*(1+$B$7/100)^J13)
A14: Zmień wartości w złotych polach, aby sprawdzić różne scenariusze. Wyniki i wykres aktualizują się automatycznie. | J14: 12 | K14: =IF(J14>$B$8,NA(),$B$6/(1+$B$7/100)^J14) | L14: =IF(J14>$B$8,NA(),$B$6*(1+$B$7/100)^J14)
J15: 13 | K15: =IF(J15>$B$8,NA(),$B$6/(1+$B$7/100)^J15) | L15: =IF(J15>$B$8,NA(),$B$6*(1+$B$7/100)^J15)
A16: JAK ZMIENIA SIĘ WARTOŚĆ PIENIĄDZA? | J16: 14 | K16: =IF(J16>$B$8,NA(),$B$6/(1+$B$7/100)^J16) | L16: =IF(J16>$B$8,NA(),$B$6*(1+$B$7/100)^J16)
J17: 15 | K17: =IF(J17>$B$8,NA(),$B$6/(1+$B$7/100)^J17) | L17: =IF(J17>$B$8,NA(),$B$6*(1+$B$7/100)^J17)
J18: 16 | K18: =IF(J18>$B$8,NA(),$B$6/(1+$B$7/100)^J18) | L18: =IF(J18>$B$8,NA(),$B$6*(1+$B$7/100)^J18)
J19: 17 | K19: =IF(J19>$B$8,NA(),$B$6/(1+$B$7/100)^J19) | L19: =IF(J19>$B$8,NA(),$B$6*(1+$B$7/100)^J19)
J20: 18 | K20: =IF(J20>$B$8,NA(),$B$6/(1+$B$7/100)^J20) | L20: =IF(J20>$B$8,NA(),$B$6*(1+$B$7/100)^J20)
J21: 19 | K21: =IF(J21>$B$8,NA(),$B$6/(1+$B$7/100)^J21) | L21: =IF(J21>$B$8,NA(),$B$6*(1+$B$7/100)^J21)
J22: 20 | K22: =IF(J22>$B$8,NA(),$B$6/(1+$B$7/100)^J22) | L22: =IF(J22>$B$8,NA(),$B$6*(1+$B$7/100)^J22)
J23: 21 | K23: =IF(J23>$B$8,NA(),$B$6/(1+$B$7/100)^J23) | L23: =IF(J23>$B$8,NA(),$B$6*(1+$B$7/100)^J23)
J24: 22 | K24: =IF(J24>$B$8,NA(),$B$6/(1+$B$7/100)^J24) | L24: =IF(J24>$B$8,NA(),$B$6*(1+$B$7/100)^J24)
J25: 23 | K25: =IF(J25>$B$8,NA(),$B$6/(1+$B$7/100)^J25) | L25: =IF(J25>$B$8,NA(),$B$6*(1+$B$7/100)^J25)
J26: 24 | K26: =IF(J26>$B$8,NA(),$B$6/(1+$B$7/100)^J26) | L26: =IF(J26>$B$8,NA(),$B$6*(1+$B$7/100)^J26)
J27: 25 | K27: =IF(J27>$B$8,NA(),$B$6/(1+$B$7/100)^J27) | L27: =IF(J27>$B$8,NA(),$B$6*(1+$B$7/100)^J27)
J28: 26 | K28: =IF(J28>$B$8,NA(),$B$6/(1+$B$7/100)^J28) | L28: =IF(J28>$B$8,NA(),$B$6*(1+$B$7/100)^J28)
... J34: 32 | K34: =IF(J34>$B$8,NA(),$B$6/(1+$B$7/100)^J34) | L34: =IF(J34>$B$8,NA(),$B$6*(1+$B$7/100)^J34)
A35: WAŻNE ZAŁOŻENIA | J35: 33 | K35: =IF(J35>$B$8,NA(),$B$6/(1+$B$7/100)^J35) | L35: =IF(J35>$B$8,NA(),$B$6*(1+$B$7/100)^J35)
A36: Model zakłada stałą, jednakową inflację w każdym roku i coroczne składanie zmian poziomu cen. Rzeczywista inflacja zmienia się w czasie, a wzrost cen poszczególnych produktów i usług może być inny niż wskaźnik ogólny. Kalkulator nie prognozuje przyszłej inflacji i nie uwzględnia indywidualnego koszyka zakupów. | J36: 34 | K36: =IF(J36>$B$8,NA(),$B$6/(1+$B$7/100)^J36) | L36: =IF(J36>$B$8,NA(),$B$6*(1+$B$7/100)^J36)
J37: 35 | K37: =IF(J37>$B$8,NA(),$B$6/(1+$B$7/100)^J37) | L37: =IF(J37>$B$8,NA(),$B$6*(1+$B$7/100)^J37)
J38: 36 | K38: =IF(J38>$B$8,NA(),$B$6/(1+$B$7/100)^J38) | L38: =IF(J38>$B$8,NA(),$B$6*(1+$B$7/100)^J38)
J39: 37 | K39: =IF(J39>$B$8,NA(),$B$6/(1+$B$7/100)^J39) | L39: =IF(J39>$B$8,NA(),$B$6*(1+$B$7/100)^J39)
J40: 38 | K40: =IF(J40>$B$8,NA(),$B$6/(1+$B$7/100)^J40) | L40: =IF(J40>$B$8,NA(),$B$6*(1+$B$7/100)^J40)
J41: 39 | K41: =IF(J41>$B$8,NA(),$B$6/(1+$B$7/100)^J41) | L41: =IF(J41>$B$8,NA(),$B$6*(1+$B$7/100)^J41)
J42: 40 | K42: =IF(J42>$B$8,NA(),$B$6/(1+$B$7/100)^J42) | L42: =IF(J42>$B$8,NA(),$B$6*(1+$B$7/100)^J42)
J43: 41 | K43: =IF(J43>$B$8,NA(),$B$6/(1+$B$7/100)^J43) | L43: =IF(J43>$B$8,NA(),$B$6*(1+$B$7/100)^J43)
J44: 42 | K44: =IF(J44>$B$8,NA(),$B$6/(1+$B$7/100)^J44) | L44: =IF(J44>$B$8,NA(),$B$6*(1+$B$7/100)^J44)
J45: 43 | K45: =IF(J45>$B$8,NA(),$B$6/(1+$B$7/100)^J45) | L45: =IF(J45>$B$8,NA(),$B$6*(1+$B$7/100)^J45)
...

Sheet Rok po roku
A1: WPŁYW INFLACJI ROK PO ROKU
A3: Szczegółowe zestawienie na podstawie założeń wpisanych w arkuszu Kalkulator.
A5: Rok | B5: Poziom cen (indeks) | C5: Siła nabywcza kwoty | D5: Kwota potrzebna do zachowania siły nabywczej | E5: Skumulowana inflacja
A6: 1 | B6: =IF(A6>Kalkulator!$B$8,"",(1+Kalkulator!$B$7/100)^A6) | C6: =IF(A6>Kalkulator!$B$8,"",Kalkulator!$B$6/B6) | D6: =IF(A6>Kalkulator!$B$8,"",Kalkulator!$B$6*B6) | E6: =IF(A6>Kalkulator!$B$8,"",B6-1)
A7: 2 | B7: =IF(A7>Kalkulator!$B$8,"",(1+Kalkulator!$B$7/100)^A7) | C7: =IF(A7>Kalkulator!$B$8,"",Kalkulator!$B$6/B7) | D7: =IF(A7>Kalkulator!$B$8,"",Kalkulator!$B$6*B7) | E7: =IF(A7>Kalkulator!$B$8,"",B7-1)
A8: 3 | B8: =IF(A8>Kalkulator!$B$8,"",(1+Kalkulator!$B$7/100)^A8) | C8: =IF(A8>Kalkulator!$B$8,"",Kalkulator!$B$6/B8) | D8: =IF(A8>Kalkulator!$B$8,"",Kalkulator!$B$6*B8) | E8: =IF(A8>Kalkulator!$B$8,"",B8-1)
A9: 4 | B9: =IF(A9>Kalkulator!$B$8,"",(1+Kalkulator!$B$7/100)^A9) | C9: =IF(A9>Kalkulator!$B$8,"",Kalkulator!$B$6/B9) | D9: =IF(A9>Kalkulator!$B$8,"",Kalkulator!$B$6*B9) | E9: =IF(A9>Kalkulator!$B$8,"",B9-1)
A10: 5 | B10: =IF(A10>Kalkulator!$B$8,"",(1+Kalkulator!$B$7/100)^A10) | C10: =IF(A10>Kalkulator!$B$8,"",Kalkulator!$B$6/B10) | D10: =IF(A10>Kalkulator!$B$8,"",Kalkulator!$B$6*B10) | E10: =IF(A10>Kalkulator!$B$8,"",B10-1)
A11: 6 | B11: =IF(A11>Kalkulator!$B$8,"",(1+Kalkulator!$B$7/100)^A11) | C11: =IF(A11>Kalkulator!$B$8,"",Kalkulator!$B$6/B11) | D11: =IF(A11>Kalkulator!$B$8,"",Kalkulator!$B$6*B11) | E11: =IF(A11>Kalkulator!$B$8,"",B11-1)
A12: 7 | B12: =IF(A12>Kalkulator!$B$8,"",(1+Kalkulator!$B$7/100)^A12) | C12: =IF(A12>Kalkulator!$B$8,"",Kalkulator!$B$6/B12) | D12: =IF(A12>Kalkulator!$B$8,"",Kalkulator!$B$6*B12) | E12: =IF(A12>Kalkulator!$B$8,"",B12-1)
A13: 8 | B13: =IF(A13>Kalkulator!$B$8,"",(1+Kalkulator!$B$7/100)^A13) | C13: =IF(A13>Kalkulator!$B$8,"",Kalkulator!$B$6/B13) | D13: =IF(A13>Kalkulator!$B$8,"",Kalkulator!$B$6*B13) | E13: =IF(A13>Kalkulator!$B$8,"",B13-1)
A14: 9 | B14: =IF(A14>Kalkulator!$B$8,"",(1+Kalkulator!$B$7/100)^A14) | C14: =IF(A14>Kalkulator!$B$8,"",Kalkulator!$B$6/B14) | D14: =IF(A14>Kalkulator!$B$8,"",Kalkulator!$B$6*B14) | E14: =IF(A14>Kalkulator!$B$8,"",B14-1)
A15: 10 | B15: =IF(A15>Kalkulator!$B$8,"",(1+Kalkulator!$B$7/100)^A15) | C15: =IF(A15>Kalkulator!$B$8,"",Kalkulator!$B$6/B15) | D15: =IF(A15>Kalkulator!$B$8,"",Kalkulator!$B$6*B15) | E15: =IF(A15>Kalkulator!$B$8,"",B15-1)
A16: 11 | B16: =IF(A16>Kalkulator!$B$8,"",(1+Kalkulator!$B$7/100)^A16) | C16: =IF(A16>Kalkulator!$B$8,"",Kalkulator!$B$6/B16) | D16: =IF(A16>Kalkulator!$B$8,"",Kalkulator!$B$6*B16) | E16: =IF(A16>Kalkulator!$B$8,"",B16-1)
A17: 12 | B17: =IF(A17>Kalkulator!$B$8,"",(1+Kalkulator!$B$7/100)^A17) | C17: =IF(A17>Kalkulator!$B$8,"",Kalkulator!$B$6/B17) | D17: =IF(A17>Kalkulator!$B$8,"",Kalkulator!$B$6*B17) | E17: =IF(A17>Kalkulator!$B$8,"",B17-1)
... A65: 60 | B65: =IF(A65>Kalkulator!$B$8,"",(1+Kalkulator!$B$7/100)^A65) | C65: =IF(A65>Kalkulator!$B$8,"",Kalkulator!$B$6/B65) | D65: =IF(A65>Kalkulator!$B$8,"",Kalkulator!$B$6*B65) | E65: =IF(A65>Kalkulator!$B$8,"",B65-1)

Sheet Instrukcja
A1: JAK KORZYSTAĆ Z KALKULATORA
A3: Instrukcja obsługi kalkulatora inflacji.
A5: KROK PO KROKU
A6: 01 | B6: Kwota początkowa | C6: Wpisz kwotę, której przyszłą siłę nabywczą chcesz sprawdzić.
A7: 02 | B7: Średnia roczna inflacja | C7: Wpisz założoną inflację w procentach, np. 3,5 oznacza 3,5% rocznie.
A8: 03 | B8: Okres | C8: Wybierz liczbę pełnych lat symulacji — od 1 do 60.
A9: 04 | B9: Odczytaj siłę nabywczą | C9: To szacunkowa wartość dzisiejszej kwoty wyrażona w pieniądzu o przyszłej sile nabywczej.
A10: 05 | B10: Sprawdź kwotę potrzebną | C10: Zobacz, ile pieniędzy będzie potrzeba w przyszłości, aby kupić tyle samo co dziś za podaną kwotę.
A11: 06 | B11: Przejrzyj harmonogram | C11: Arkusz „Rok po roku” pokazuje indeks cen, siłę nabywczą i skumulowaną inflację.
A13: JAK INTERPRETOWAĆ WYNIKI?
A14: Przykład: jeśli 10 000 zł podlega inflacji 3% rocznie przez 10 lat, to jego siła nabywcza w dzisiejszych złotych będzie niższa. Aby po 10 latach kupić tyle samo, co dziś za 10 000 zł, potrzebna będzie wyższa nominalna kwota. Kalkulator pokazuje oba ujęcia: przyszłą siłę nabywczą obecnej kwoty oraz przyszłą kwotę potrzebną do zachowania siły nabywczej.
A19: WAŻNE ZASTRZEŻENIA
A20: Kalkulator jest narzędziem edukacyjnym i symulacyjnym. Zakłada stałą inflację przez cały okres, co nie jest prognozą. Faktyczny wzrost cen może być wyższy lub niższy, a ceny konkretnych dóbr i usług mogą zmieniać się w innym tempie niż ogólny wskaźnik inflacji. Wynik nie stanowi porady finansowej ani prognozy ekonomicznej.
