Workbook

Sheet Kalkulator
A1: KALKULATOR EMERYTALNY
A3: TWOJE ZAŁOŻENIA
A4: Aktualny wiek | B4: 35 | C4: lata
A5: Planowany wiek przejścia na emeryturę | B5: 65 | C5: lata
A6: Obecne oszczędności emerytalne | B6: 50000 | C6: zł
A7: Miesięczna wpłata | B7: 800 | C7: zł
A8: Oczekiwana średnia stopa zwrotu rocznie | B8: 0.05 | C8: %
A9: Szacowana inflacja rocznie | B9: 0.025 | C9: %
A10: Wzrost miesięcznej wpłaty rocznie | B10: 0.02 | C10: %
A11: Planowany okres pobierania kapitału | B11: 25 | C11: lat
A12: Oczekiwany roczny zwrot na emeryturze | B12: 0.03 | C12: %
A15: PROGNOZA NA MOMENT EMERYTURY
A16: Liczba lat oszczędzania | B16: =MAX(0,B5-B4) | C16: lat
A17: Szacowany kapitał nominalny | B17: =IFERROR(INDEX(Prognoza!B4:B69,MATCH(B16,Prognoza!A4:A69,0)),B6) | C17: zł
A18: Kapitał w dzisiejszej sile nabywczej | B18: =IFERROR(B17/(1+B9)^B16,0) | C18: zł
A19: Szacowany miesięczny dochód z kapitału | B19: =IFERROR(-PMT(B12/12,B11*12,B17),0) | C19: zł
A20: Dochód w dzisiejszej sile nabywczej | B20: =IFERROR(B19/(1+B9)^B16,0) | C20: zł
A21: Suma przyszłych wpłat | B21: =SUM(Prognoza!C4:C69) | C21: zł
A24: To symulacja prywatnych oszczędności, a nie prognoza świadczenia z ZUS. Wynik zależy od przyjętych założeń i nie jest gwarantowany. Model nie uwzględnia podatków, opłat, zmienności rynku, zmian wynagrodzeń ani indywidualnych zasad produktów emerytalnych.

Sheet Prognoza
A1: PROGNOZA OSZCZĘDNOŚCI ROK PO ROKU
A3: Rok | B3: Kapitał na koniec roku | C3: Wpłaty w roku | D3: Wpłaty łącznie | E3: Kapitał w dzisiejszej wartości | F3: Wiek
A4: 0 | B4: =Kalkulator!$B$6 | C4: 0 | D4: 0 | E4: =B4/(1+Kalkulator!$B$9)^A4 | F4: =Kalkulator!$B$4+A4
A5: 1 | B5: =B4*(1+Kalkulator!$B$8)+C5 | C5: =IF(A5<=Kalkulator!$B$16,12*Kalkulator!$B$7*(1+Kalkulator!$B$10)^(A5-1),0) | D5: =D4+C5 | E5: =B5/(1+Kalkulator!$B$9)^A5 | F5: =Kalkulator!$B$4+A5
A6: 2 | B6: =B5*(1+Kalkulator!$B$8)+C6 | C6: =IF(A6<=Kalkulator!$B$16,12*Kalkulator!$B$7*(1+Kalkulator!$B$10)^(A6-1),0) | D6: =D5+C6 | E6: =B6/(1+Kalkulator!$B$9)^A6 | F6: =Kalkulator!$B$4+A6
A7: 3 | B7: =B6*(1+Kalkulator!$B$8)+C7 | C7: =IF(A7<=Kalkulator!$B$16,12*Kalkulator!$B$7*(1+Kalkulator!$B$10)^(A7-1),0) | D7: =D6+C7 | E7: =B7/(1+Kalkulator!$B$9)^A7 | F7: =Kalkulator!$B$4+A7
A8: 4 | B8: =B7*(1+Kalkulator!$B$8)+C8 | C8: =IF(A8<=Kalkulator!$B$16,12*Kalkulator!$B$7*(1+Kalkulator!$B$10)^(A8-1),0) | D8: =D7+C8 | E8: =B8/(1+Kalkulator!$B$9)^A8 | F8: =Kalkulator!$B$4+A8
A9: 5 | B9: =B8*(1+Kalkulator!$B$8)+C9 | C9: =IF(A9<=Kalkulator!$B$16,12*Kalkulator!$B$7*(1+Kalkulator!$B$10)^(A9-1),0) | D9: =D8+C9 | E9: =B9/(1+Kalkulator!$B$9)^A9 | F9: =Kalkulator!$B$4+A9
A10: 6 | B10: =B9*(1+Kalkulator!$B$8)+C10 | C10: =IF(A10<=Kalkulator!$B$16,12*Kalkulator!$B$7*(1+Kalkulator!$B$10)^(A10-1),0) | D10: =D9+C10 | E10: =B10/(1+Kalkulator!$B$9)^A10 | F10: =Kalkulator!$B$4+A10
A11: 7 | B11: =B10*(1+Kalkulator!$B$8)+C11 | C11: =IF(A11<=Kalkulator!$B$16,12*Kalkulator!$B$7*(1+Kalkulator!$B$10)^(A11-1),0) | D11: =D10+C11 | E11: =B11/(1+Kalkulator!$B$9)^A11 | F11: =Kalkulator!$B$4+A11
A12: 8 | B12: =B11*(1+Kalkulator!$B$8)+C12 | C12: =IF(A12<=Kalkulator!$B$16,12*Kalkulator!$B$7*(1+Kalkulator!$B$10)^(A12-1),0) | D12: =D11+C12 | E12: =B12/(1+Kalkulator!$B$9)^A12 | F12: =Kalkulator!$B$4+A12
A13: 9 | B13: =B12*(1+Kalkulator!$B$8)+C13 | C13: =IF(A13<=Kalkulator!$B$16,12*Kalkulator!$B$7*(1+Kalkulator!$B$10)^(A13-1),0) | D13: =D12+C13 | E13: =B13/(1+Kalkulator!$B$9)^A13 | F13: =Kalkulator!$B$4+A13
A14: 10 | B14: =B13*(1+Kalkulator!$B$8)+C14 | C14: =IF(A14<=Kalkulator!$B$16,12*Kalkulator!$B$7*(1+Kalkulator!$B$10)^(A14-1),0) | D14: =D13+C14 | E14: =B14/(1+Kalkulator!$B$9)^A14 | F14: =Kalkulator!$B$4+A14
A15: 11 | B15: =B14*(1+Kalkulator!$B$8)+C15 | C15: =IF(A15<=Kalkulator!$B$16,12*Kalkulator!$B$7*(1+Kalkulator!$B$10)^(A15-1),0) | D15: =D14+C15 | E15: =B15/(1+Kalkulator!$B$9)^A15 | F15: =Kalkulator!$B$4+A15
A16: 12 | B16: =B15*(1+Kalkulator!$B$8)+C16 | C16: =IF(A16<=Kalkulator!$B$16,12*Kalkulator!$B$7*(1+Kalkulator!$B$10)^(A16-1),0) | D16: =D15+C16 | E16: =B16/(1+Kalkulator!$B$9)^A16 | F16: =Kalkulator!$B$4+A16
... A69: 65 | B69: =B68*(1+Kalkulator!$B$8)+C69 | C69: =IF(A69<=Kalkulator!$B$16,12*Kalkulator!$B$7*(1+Kalkulator!$B$10)^(A69-1),0) | D69: =D68+C69 | E69: =B69/(1+Kalkulator!$B$9)^A69 | F69: =Kalkulator!$B$4+A69

Sheet Instrukcja
A1: INSTRUKCJA
A3: 1. Wiek | B3: Podaj aktualny wiek i planowany wiek przejścia na emeryturę. Różnica określa horyzont oszczędzania.
A4: 2. Oszczędności i wpłaty | B4: Wpisz obecny kapitał oraz planowaną miesięczną wpłatę. Model zakłada wpłaty regularne, ujmowane w ujęciu rocznym.
A5: 3. Założenia | B5: Stopa zwrotu, inflacja i tempo wzrostu wpłat są założeniami scenariusza, a nie przewidywaniami.
A6: 4. Dochód z kapitału | B6: Kalkulator szacuje równą miesięczną wypłatę z kapitału przez wskazaną liczbę lat, przy założonej stopie zwrotu w okresie wypłat.
A7: Zakres | B7: Arkusz nie wylicza emerytury z ZUS ani świadczeń z IKE, IKZE lub PPK. Pokazuje symulację prywatnego kapitału.
A8: Ważne | B8: Rzeczywiste wyniki mogą odbiegać od symulacji. Uwzględnij podatki, opłaty, ryzyko inwestycyjne i zmiany przepisów. To narzędzie edukacyjne, nie indywidualna porada inwestycyjna.
