Workbook

Sheet Kalkulator
A1: KALKULATOR DYWIDEND
A3: PARAMETRY INWESTYCJI
A4: Liczba posiadanych akcji | B4: 100 | C4: szt.
A5: Cena jednej akcji | B5: 100 | C5: zł
A6: Roczna dywidenda na akcję | B6: 5 | C6: zł
A7: Oczekiwany wzrost dywidendy rocznie | B7: 0.04 | C7: %
A8: Podatek od dywidendy | B8: 0.19 | C8: %
A9: Planowany okres inwestycji | B9: 10 | C9: lat
A10: Reinwestowanie dywidend | B10: Tak | C10: wybierz
A11: Cena zakupu akcji do reinwestycji | B11: 100 | C11: zł
A14: WYNIKI
A16: Wartość początkowej inwestycji | B16: =B4*B5 | C16: zł
A17: Roczna dywidenda brutto na początku | B17: =B4*B6 | C17: zł
A18: Roczna dywidenda netto na początku | B18: =B16*(1-B8) | C18: zł
A19: Stopa dywidendy brutto | B19: =IFERROR(B6/B5,0) | C19: %
A20: Stopa dywidendy netto | B20: =B19*(1-B8) | C20: %
A21: Dywidenda brutto w ostatnim roku | B21: =IFERROR(INDEX(Prognoza!C4:C63,MATCH(B9,Prognoza!A4:A63,0)),0) | C21: zł
A22: Dywidenda netto w ostatnim roku | B22: =IFERROR(INDEX(Prognoza!D4:D63,MATCH(B9,Prognoza!A4:A63,0)),0) | C22: zł
A23: Łączne dywidendy netto w okresie | B23: =SUM(Prognoza!E4:E63) | C23: zł
A24: Liczba akcji na koniec okresu | B24: =IFERROR(INDEX(Prognoza!B4:B63,MATCH(B9,Prognoza!A4:A63,0)),B4) | C24: szt.
A25: Wartość portfela na koniec okresu | B25: =B24*B5 | C25: zł
A28: Symulacja ma charakter edukacyjny. Zakłada stałą cenę akcji, wypłatę dywidendy raz w roku, stałą stawkę podatku oraz stały wzrost dywidendy. Nie uwzględnia prowizji maklerskich, zmiany kursu, walut, podatków zagranicznych, dopłat ani zmian polityki dywidendowej spółki. Dywidenda nie jest gwarantowana, a stopa dywidendy z przeszłości nie przesądza o przyszłych wypłatach.

Sheet Prognoza
A1: PROGNOZA DYWIDEND ROK PO ROKU
A3: Rok | B3: Liczba akcji | C3: Dywidenda brutto | D3: Dywidenda netto | E3: Dywidenda netto narastająco | F3: Dywidenda na akcję | G3: Wartość portfela
A4: 0 | B4: =Kalkulator!$B$4 | C4: =B4*F4 | D4: =C4*(1-Kalkulator!$B$8) | E4: =D4 | F4: =Kalkulator!$B$6*(1+Kalkulator!$B$7)^A4 | G4: =B4*Kalkulator!$B$5
A5: 1 | B5: =IF(Kalkulator!$B$10="Tak",B4+D4/Kalkulator!$B$11,B4) | C5: =B5*F5 | D5: =C5*(1-Kalkulator!$B$8) | E5: =E4+D5 | F5: =Kalkulator!$B$6*(1+Kalkulator!$B$7)^A5 | G5: =B5*Kalkulator!$B$5
A6: 2 | B6: =IF(Kalkulator!$B$10="Tak",B5+D5/Kalkulator!$B$11,B5) | C6: =B6*F6 | D6: =C6*(1-Kalkulator!$B$8) | E6: =E5+D6 | F6: =Kalkulator!$B$6*(1+Kalkulator!$B$7)^A6 | G6: =B6*Kalkulator!$B$5
A7: 3 | B7: =IF(Kalkulator!$B$10="Tak",B6+D6/Kalkulator!$B$11,B6) | C7: =B7*F7 | D7: =C7*(1-Kalkulator!$B$8) | E7: =E6+D7 | F7: =Kalkulator!$B$6*(1+Kalkulator!$B$7)^A7 | G7: =B7*Kalkulator!$B$5
A8: 4 | B8: =IF(Kalkulator!$B$10="Tak",B7+D7/Kalkulator!$B$11,B7) | C8: =B8*F8 | D8: =C8*(1-Kalkulator!$B$8) | E8: =E7+D8 | F8: =Kalkulator!$B$6*(1+Kalkulator!$B$7)^A8 | G8: =B8*Kalkulator!$B$5
A9: 5 | B9: =IF(Kalkulator!$B$10="Tak",B8+D8/Kalkulator!$B$11,B8) | C9: =B9*F9 | D9: =C9*(1-Kalkulator!$B$8) | E9: =E8+D9 | F9: =Kalkulator!$B$6*(1+Kalkulator!$B$7)^A9 | G9: =B9*Kalkulator!$B$5
A10: 6 | B10: =IF(Kalkulator!$B$10="Tak",B9+D9/Kalkulator!$B$11,B9) | C10: =B10*F10 | D10: =C10*(1-Kalkulator!$B$8) | E10: =E9+D10 | F10: =Kalkulator!$B$6*(1+Kalkulator!$B$7)^A10 | G10: =B10*Kalkulator!$B$5
A11: 7 | B11: =IF(Kalkulator!$B$10="Tak",B10+D10/Kalkulator!$B$11,B10) | C11: =B11*F11 | D11: =C11*(1-Kalkulator!$B$8) | E11: =E10+D11 | F11: =Kalkulator!$B$6*(1+Kalkulator!$B$7)^A11 | G11: =B11*Kalkulator!$B$5
A12: 8 | B12: =IF(Kalkulator!$B$10="Tak",B11+D11/Kalkulator!$B$11,B11) | C12: =B12*F12 | D12: =C12*(1-Kalkulator!$B$8) | E12: =E11+D12 | F12: =Kalkulator!$B$6*(1+Kalkulator!$B$7)^A12 | G12: =B12*Kalkulator!$B$5
A13: 9 | B13: =IF(Kalkulator!$B$10="Tak",B12+D12/Kalkulator!$B$11,B12) | C13: =B13*F13 | D13: =C13*(1-Kalkulator!$B$8) | E13: =E12+D13 | F13: =Kalkulator!$B$6*(1+Kalkulator!$B$7)^A13 | G13: =B13*Kalkulator!$B$5
A14: 10 | B14: =IF(Kalkulator!$B$10="Tak",B13+D13/Kalkulator!$B$11,B13) | C14: =B14*F14 | D14: =C14*(1-Kalkulator!$B$8) | E14: =E13+D14 | F14: =Kalkulator!$B$6*(1+Kalkulator!$B$7)^A14 | G14: =B14*Kalkulator!$B$5
A15: 11 | B15: =IF(Kalkulator!$B$10="Tak",B14+D14/Kalkulator!$B$11,B14) | C15: =B15*F15 | D15: =C15*(1-Kalkulator!$B$8) | E15: =E14+D15 | F15: =Kalkulator!$B$6*(1+Kalkulator!$B$7)^A15 | G15: =B15*Kalkulator!$B$5
A16: 12 | B16: =IF(Kalkulator!$B$10="Tak",B15+D15/Kalkulator!$B$11,B15) | C16: =B16*F16 | D16: =C16*(1-Kalkulator!$B$8) | E16: =E15+D16 | F16: =Kalkulator!$B$6*(1+Kalkulator!$B$7)^A16 | G16: =B16*Kalkulator!$B$5
... A63: 59 | B63: =IF(Kalkulator!$B$10="Tak",B62+D62/Kalkulator!$B$11,B62) | C63: =B63*F63 | D63: =C63*(1-Kalkulator!$B$8) | E63: =E62+D63 | F63: =Kalkulator!$B$6*(1+Kalkulator!$B$7)^A63 | G63: =B63*Kalkulator!$B$5

Sheet Instrukcja
A1: INSTRUKCJA
A3: 1. Dane inwestycji | B3: Wpisz liczbę akcji, ich cenę oraz aktualną roczną dywidendę przypadającą na jedną akcję.
A4: 2. Założenia | B4: Określ przewidywany wzrost dywidendy, stawkę podatku i liczbę lat symulacji. Wzrost dywidendy jest założeniem, a nie prognozą.
A5: 3. Reinwestowanie | B5: Wybierz „Tak”, aby model doliczał akcje kupowane za dywidendę netto. Przyjmowana cena zakupu jest stała i podana osobno.
A6: 4. Wyniki | B6: Arkusz Kalkulator pokazuje początkową stopę dywidendy, prognozowane wypłaty oraz liczbę akcji i wartość portfela na końcu okresu.
A7: Założenia modelu | B7: Model upraszcza wypłatę do jednego rozliczenia rocznie. Dywidenda netto jest liczona po wpisanej stawce podatku. W praktyce terminy, waluty i opodatkowanie mogą być inne.
A8: Ważne | B8: Spółka może obniżyć, zawiesić lub nie wypłacić dywidendy. Cena akcji może spadać lub rosnąć. Kalkulator nie uwzględnia ryzyka inwestycyjnego ani nie stanowi rekomendacji kupna lub sprzedaży.
